BEGIN:VCALENDAR
VERSION:2.0
PRODID:-//Moonstone Arts Center - ECPv6.15.20//NONSGML v1.0//EN
CALSCALE:GREGORIAN
METHOD:PUBLISH
X-ORIGINAL-URL:https://moonstoneartscenter.com
X-WR-CALDESC:Events for Moonstone Arts Center
REFRESH-INTERVAL;VALUE=DURATION:PT1H
X-Robots-Tag:noindex
X-PUBLISHED-TTL:PT1H
BEGIN:VTIMEZONE
TZID:America/New_York
BEGIN:DAYLIGHT
TZOFFSETFROM:-0500
TZOFFSETTO:-0400
TZNAME:EDT
DTSTART:20230312T070000
END:DAYLIGHT
BEGIN:STANDARD
TZOFFSETFROM:-0400
TZOFFSETTO:-0500
TZNAME:EST
DTSTART:20231105T060000
END:STANDARD
BEGIN:DAYLIGHT
TZOFFSETFROM:-0500
TZOFFSETTO:-0400
TZNAME:EDT
DTSTART:20240310T070000
END:DAYLIGHT
BEGIN:STANDARD
TZOFFSETFROM:-0400
TZOFFSETTO:-0500
TZNAME:EST
DTSTART:20241103T060000
END:STANDARD
BEGIN:DAYLIGHT
TZOFFSETFROM:-0500
TZOFFSETTO:-0400
TZNAME:EDT
DTSTART:20250309T070000
END:DAYLIGHT
BEGIN:STANDARD
TZOFFSETFROM:-0400
TZOFFSETTO:-0500
TZNAME:EST
DTSTART:20251102T060000
END:STANDARD
END:VTIMEZONE
BEGIN:VEVENT
DTSTART;TZID=America/New_York:20240601T130000
DTEND;TZID=America/New_York:20240601T150000
DTSTAMP:20260425T170435
CREATED:20240523T134534Z
LAST-MODIFIED:20240523T134713Z
UID:19585-1717246800-1717254000@moonstoneartscenter.com
SUMMARY:Live Poetry: S/He Speaks 2: Voices of Women\, Trans & Nonbinary Folx
DESCRIPTION:Live Poetry: S/He Speaks 2: Voices of Women\, Trans & Nonbinary Folx\nHosted at The Rotunda\, 4014 Walnut Street in Philadelphia\nAlso on Zoom: \nS/He Speaks 2 is edited by Cassendre Xavier and Tom Daubert.  \nWhen we launched the S/He Speaks anthology in 2023\, we noted that anyone likely to read it would already be well aware of the ongoing “Cold War” in the United States targeting the rights of women and transgendered people. Once again\, this anthology comes in conjunction with an afternoon-long event at The Rotunda at the University of Pennsylvania\, where writers who can attend will read from their works and discuss their writing. All the poems and short essays here come from people who take their writing seriously. Many are women. Some are transgendered\, both male-to-female and female-to-male. Others define themselves as nonbinary. All have something meaningful and personal to say\, inspired by our calls for short writing of this nature\, whether about gender and transition issues\, health and life experience\, relationships — anything personal. We hope readers will find some inspiration here — and possibly as a result\, begin their own writings. \nFeatured Contributors\nAshley Andrews \nPhilip Avilov \nMikey Bachman \nLainey Bechta \nJanice F. Booth \nAriana Chavez \nTaffeta Chime \nCathyann Cusimano \nF. Daubert \nRebecca Dietrich \nV. Eidson \nEllen Gannon \nKate Gardner \nMelissa Gibson \nLiora Hassan \nRosalie Hendon \nSamantha Hollins \nZoe Mae Huot-Link \nErin Jamieson \nIsabella Kaufman \nJess Kratzer \nAmira Kravitz \nDeborah LeFalle \nJosephine LoRe \nBetsy Merbitz \nMira Mookerjee \nBeth S.K. Morris \nCarlene Stegman Moskal \nGloria Nixon-John \nSophia Ogden \nEmma Paris \nBreanna Reyes \nAdya Ryan \nYvette Santana \nJen Schneider \nZoe Katherine Shelley \nBrian “Brie” Sheridan \nTanjanike “Tan” Shivers \nEllie Smillie \nMegha Sood \nMakani Speier-Brito \nLaura Sweeney \nRenée  Szostek \nNatalia Tola \nSuzannah “Su” Van Gelder \nJamie C. Whitlow \nHarley Woods \nMorgan Wright \nCassendre Xavier \nAlexis Young \nZQ
URL:https://moonstoneartscenter.com/event/live-poetry-s-he-speaks-2-voices-of-women-trans-nonbinary-folx/
LOCATION:The Rotunda\, 14014 Walnut Street\, Philadelphia\, PA\, 19104\, United States
CATEGORIES:Events,Poetry Events
ATTACH;FMTTYPE=image/png:https://moonstoneartscenter.com/wp-content/uploads/2024/05/june-1.png
END:VEVENT
END:VCALENDAR