BEGIN:VCALENDAR
VERSION:2.0
PRODID:-//Moonstone Arts Center - ECPv6.15.20//NONSGML v1.0//EN
CALSCALE:GREGORIAN
METHOD:PUBLISH
X-WR-CALNAME:Moonstone Arts Center
X-ORIGINAL-URL:https://moonstoneartscenter.com
X-WR-CALDESC:Events for Moonstone Arts Center
REFRESH-INTERVAL;VALUE=DURATION:PT1H
X-Robots-Tag:noindex
X-PUBLISHED-TTL:PT1H
BEGIN:VTIMEZONE
TZID:America/New_York
BEGIN:DAYLIGHT
TZOFFSETFROM:-0500
TZOFFSETTO:-0400
TZNAME:EDT
DTSTART:20240310T070000
END:DAYLIGHT
BEGIN:STANDARD
TZOFFSETFROM:-0400
TZOFFSETTO:-0500
TZNAME:EST
DTSTART:20241103T060000
END:STANDARD
BEGIN:DAYLIGHT
TZOFFSETFROM:-0500
TZOFFSETTO:-0400
TZNAME:EDT
DTSTART:20250309T070000
END:DAYLIGHT
BEGIN:STANDARD
TZOFFSETFROM:-0400
TZOFFSETTO:-0500
TZNAME:EST
DTSTART:20251102T060000
END:STANDARD
BEGIN:DAYLIGHT
TZOFFSETFROM:-0500
TZOFFSETTO:-0400
TZNAME:EDT
DTSTART:20260308T070000
END:DAYLIGHT
BEGIN:STANDARD
TZOFFSETFROM:-0400
TZOFFSETTO:-0500
TZNAME:EST
DTSTART:20261101T060000
END:STANDARD
END:VTIMEZONE
BEGIN:VEVENT
DTSTART;TZID=America/New_York:20250715T170000
DTEND;TZID=America/New_York:20250715T183000
DTSTAMP:20260424T045929
CREATED:20250622T155749Z
LAST-MODIFIED:20250712T151631Z
UID:20485-1752598800-1752604200@moonstoneartscenter.com
SUMMARY:LIVE - BETRAYED: Violence Against Women
DESCRIPTION:Tuesday July 15\, 2025 – 5pm – LIVE – BETRAYED: Violence Against Women \nCentral Free Library\, Skyline Room (4th Floor)\, 901 Vine Street \nFeaturing Meg Groff\, author of Not If I Can Help It: A Family Lawyer’s Battles for Justice for Victims of Domestic Violence and the Poor ($22.95\, Rivertowns Books) \nIn a rare\, starred review\, Kirkus Reviews says:  “The cases she recounts range from harrowing to infuriating: The police shrugged away potential murders as suicides\, children were left unsupervised with dangerous fathers with devastating results\, doctors assumed that struggling young mothers must be alcoholics. Each episode carries a tremendous punch\, as well as a searing lesson about the failings of society to help those in need. . . . Despite such heavy details and subject matter\, Groff balances her book with warmth and humor.” Books will be available.
URL:https://moonstoneartscenter.com/event/live-betrayed-violence-against-women/
LOCATION:Parkway Central Library\, 1901 Vine St
CATEGORIES:Events,Poetry Events
ATTACH;FMTTYPE=image/png:https://moonstoneartscenter.com/wp-content/uploads/2025/06/July-15-2025.png
END:VEVENT
BEGIN:VEVENT
DTSTART;TZID=America/New_York:20250716T190000
DTEND;TZID=America/New_York:20250716T200000
DTSTAMP:20260424T045929
CREATED:20250712T174048Z
LAST-MODIFIED:20250712T180050Z
UID:20525-1752692400-1752696000@moonstoneartscenter.com
SUMMARY:Live Poetry: Erica Abbott\, Elayna Mae Darcy\, Thalia Geiger\, Diamante "Dimo" Ortiz\, and Faith Paulsen
DESCRIPTION:Live Poetry: Erica Abbott\, Elayna Mae Darcy\, Thalia Geiger\, Diamante “Dimo” Ortiz\, and Faith Paulsen \nWednesday July 16\, 2025 – 7pm- LIVE \nLive at Fergie’s Pub\, 1214 Sansom Street \nErica Abbott is a Philadelphia-based poet and writer whose work has previously appeared or is forthcoming in Epiphany\, Shō Poetry Journal\, Pirene’s Fountain\, Midway Journal\, and others. She is the author of Self-Portrait as a Sinking Ship and is a poetry editor for Variant  Literature.  She is currently pursuing her MFA at Randolph College\, where she is the assistant managing editor and lead poetry editor for Revolute. \nElayna Mae Darcy is an author\, podcaster\, and chaotic good bard from Philadelphia. With a Film & Media Arts degree from Temple University\, they have spent the last decade creating podcasts\, co-founding the local publisher\, Elixir Verse Press\, and self-publishing three books. They have had pieces published in the Wizards in Space\, Impostor Lit\, just femme & dandy\, and Limited Editions\, and usually be found wandering the various branches of the Philly Free Library or snuggling their cat\, Bean. \nThalia Geiger is a poet and fiction writer\, author of the chapbook Wild Like a Woman\, and her debut poetry collection\, Red Death\, Purple Dark\, is forthcoming from Thirty West Publishing. She is the winner of Black Fox Literary’s 2025 Summer Fox Tales Contest\, and her work has been featured in New York Quarterly\, Allegory Ridge\, Coffin Bell\, Grim & Gilded and more. She hails from Philadelphia\, where she works in journal publishing. You can find her on Instagram and BlueSky @thalierr. \nDiamante “Dimo” Ortiz is a poet\, community organizer\, and journalist based in Philadelphia\, originally from the Los Sures area of Williamsburg\, Brooklyn. Their work explores grief\, gender fluidity\, and Afro-Boricua heritage. Dimo has collaborated with creatives and organized events\, including the Open Treasures open mic in 2023. They have worked as a senior reporter and editor for Protest NYC\, founded Protest PHL and does hyper local coverage throughout her years from her start as a storyteller with The Moth’s All City Team since 2016. Dimo also launched “Notes to Self\,” a Substack series reflecting on life and self-love. \nFaith Paulsen writes poetry from her desk at an insurance agency near Philadelphia. She loves books\, art\, music and friendship. Her work appears or is upcoming in Scientific American\, Blue Heron\, Boomerlit\, Lunch Ticket\, Mania\, Poetica Review\, Philadelphia Stories\, Book of Matches\, One Art\, Panoply\, Thimble\, Evansville Review\, Mantis and others. She is a proud Moonstone Chapbook Contest award recipient. Visit her website at https://www.faithpaulsenpoet.com/ \nSean Hanrahan Host – Open Reading Follows
URL:https://moonstoneartscenter.com/event/live-poetry-erica-abbott-elayna-mae-darcy-thalia-geiger-diamante-dimo-ortiz-and-faith-paulsen/
LOCATION:Fergie’s Pub\, 1214 Sansom Street\, Philadelphia\, PA\, United States
ATTACH;FMTTYPE=image/png:https://moonstoneartscenter.com/wp-content/uploads/2025/07/July-16-2025.png
END:VEVENT
BEGIN:VEVENT
DTSTART;TZID=America/New_York:20250730T190000
DTEND;TZID=America/New_York:20250730T210000
DTSTAMP:20260424T045929
CREATED:20250726T225031Z
LAST-MODIFIED:20250726T230202Z
UID:20538-1753902000-1753909200@moonstoneartscenter.com
SUMMARY:Live Poetry: Ryan Eckes and Nycir Keen
DESCRIPTION:Wednesday July 30\, 2025 – 7pm- LIVE \nLive at Fergie’s Pub\, 1214 Sansom Street \nRyan Eckes is the author of Wrong Heaven Again\, General Motors\, Valu-Plus  and Old News\, as well as several chapbooks. His poems have appeared in Prolit\, Protean Magazine\, Tripwire\, The New York Times Magazine\, and elsewhere. With Kim Gek Lin Short\, he runs Radiator Press. \nNycir Keen is an active performer and spoken word artist\, has been a member of the Collective Mic and is a frequent poet for the Gullah Traveling Theater. \nAaron Gadbury\, Lindsay Hargrave\, Warren Longmire Hosts\, Open Reading Follows 
URL:https://moonstoneartscenter.com/event/live-poetry-ryan-eckes-and-nycir-keen/
LOCATION:Fergie’s Pub\, 1214 Sansom Street\, Philadelphia\, PA\, United States
CATEGORIES:Poetry Events
ATTACH;FMTTYPE=image/jpeg:https://moonstoneartscenter.com/wp-content/uploads/2025/07/Fergies-Pub-730_Square.jpg
END:VEVENT
END:VCALENDAR