BEGIN:VCALENDAR
VERSION:2.0
PRODID:-//Moonstone Arts Center - ECPv6.15.20//NONSGML v1.0//EN
CALSCALE:GREGORIAN
METHOD:PUBLISH
X-ORIGINAL-URL:https://moonstoneartscenter.com
X-WR-CALDESC:Events for Moonstone Arts Center
REFRESH-INTERVAL;VALUE=DURATION:PT1H
X-Robots-Tag:noindex
X-PUBLISHED-TTL:PT1H
BEGIN:VTIMEZONE
TZID:America/New_York
BEGIN:DAYLIGHT
TZOFFSETFROM:-0500
TZOFFSETTO:-0400
TZNAME:EDT
DTSTART:20240310T070000
END:DAYLIGHT
BEGIN:STANDARD
TZOFFSETFROM:-0400
TZOFFSETTO:-0500
TZNAME:EST
DTSTART:20241103T060000
END:STANDARD
BEGIN:DAYLIGHT
TZOFFSETFROM:-0500
TZOFFSETTO:-0400
TZNAME:EDT
DTSTART:20250309T070000
END:DAYLIGHT
BEGIN:STANDARD
TZOFFSETFROM:-0400
TZOFFSETTO:-0500
TZNAME:EST
DTSTART:20251102T060000
END:STANDARD
BEGIN:DAYLIGHT
TZOFFSETFROM:-0500
TZOFFSETTO:-0400
TZNAME:EDT
DTSTART:20260308T070000
END:DAYLIGHT
BEGIN:STANDARD
TZOFFSETFROM:-0400
TZOFFSETTO:-0500
TZNAME:EST
DTSTART:20261101T060000
END:STANDARD
END:VTIMEZONE
BEGIN:VEVENT
DTSTART;TZID=America/New_York:20251008T190000
DTEND;TZID=America/New_York:20251008T210000
DTSTAMP:20260424T002030
CREATED:20250921T154726Z
LAST-MODIFIED:20250928T161455Z
UID:20650-1759950000-1759957200@moonstoneartscenter.com
SUMMARY:Live Poetry: Alicia Askenase\, Cassie MacDonald & Aaren Yeatts Perry
DESCRIPTION:Wednesday October 8\, 2025 – 7pm – LIVE \nLive at Sueno Restaurant\, 114 S. 12th Street \nAlicia Askenase is the author of several books\, was a founding co-editor of the literary journal 6ix\, and director of the Walt Whitman Art Center Literary programs for many years. Her poetry has appeared in various journals. \nCassie MacDonald serves as Hearthkeeper of Brigid’s House in Camden\, New Jersey where facilitates a twice-monthly writing circle\, organizes readings\, workshops and other writing arts events\, and creates neighborhood murals as part of the Poetry Liberation Front. \nAaren Yeatts Perry has performed his poems at the Nuyorican\, Kimmel Center\, World Café\, Fringe Festival\, Kelly Writers House and the Philadelphia Writers Conference\, he received a PA Council on the Arts Grant. His collections include Open Fire\, Poetry Across the Curriculum: An Action Guide for Elementary Teachers. \nAlina Macneal & Jennifer Hook Hosts – Open Reading Follows
URL:https://moonstoneartscenter.com/event/live-poetry-alicia-askenase-cassie-macdonald-aaren-yeatts-perry/
LOCATION:Fergie’s Pub\, 1214 Sansom Street\, Philadelphia\, PA\, United States
CATEGORIES:Events,Poetry Events
ATTACH;FMTTYPE=image/png:https://moonstoneartscenter.com/wp-content/uploads/2020/08/Green-Pink-Blobs-Handwritten-Coach-List-Instagram-Post-1.png
END:VEVENT
BEGIN:VEVENT
DTSTART;TZID=America/New_York:20251029T190000
DTEND;TZID=America/New_York:20251029T210000
DTSTAMP:20260424T002030
CREATED:20251026T171048Z
LAST-MODIFIED:20251026T171048Z
UID:20756-1761764400-1761771600@moonstoneartscenter.com
SUMMARY:House Poet: Beyond the Grave with Nicole Coladonato & Rachel Eve
DESCRIPTION:House Poet: Beyond the Grave with Nicole Coladonato & Rachel Eve\nWednesday\, October 29th at 7pm\nLive at Fergies Pub\, 1214 Sansom St.\nNicole Coladonato @fouronefivetwo began performing in her youth and quickly developed an affection for the spotlight. She quit being a failed visual artist to become a writer\, embracing this new path with the same passion. Her writing abuses grammar\, memes\, and the audience. Nicole’s poetry is found in zines and at open mics around Philadelphia\, where she continues to explore her work. \nRachel Eve @rachelevemusic writes and sings from a place that is at once personal and universal\, taking inspiration from the mysteries and complexities of the human experience. Rachel’s voice has been described as “passionate\,” “soulful\,” “songbird-like\,” and her diverse and lyrical songwriting infused with folk\, jazz and blues influences. Her newest single “Right Where You Are” is out now on all major streaming platforms \nLindsay Hargrave\, Host – Open Mic to follow \nSetlist by @khaleelmason
URL:https://moonstoneartscenter.com/event/house-poet-beyond-the-grave-with-nicole-coladonato-rachel-eve/
LOCATION:Fergie’s Pub\, 1214 Sansom Street\, Philadelphia\, PA\, United States
CATEGORIES:Events,Poetry Events
ATTACH;FMTTYPE=image/png:https://moonstoneartscenter.com/wp-content/uploads/2025/10/HousePoet_Oct2025.png
END:VEVENT
END:VCALENDAR