BEGIN:VCALENDAR
VERSION:2.0
PRODID:-//Moonstone Arts Center - ECPv6.15.20//NONSGML v1.0//EN
CALSCALE:GREGORIAN
METHOD:PUBLISH
X-WR-CALNAME:Moonstone Arts Center
X-ORIGINAL-URL:https://moonstoneartscenter.com
X-WR-CALDESC:Events for Moonstone Arts Center
REFRESH-INTERVAL;VALUE=DURATION:PT1H
X-Robots-Tag:noindex
X-PUBLISHED-TTL:PT1H
BEGIN:VTIMEZONE
TZID:America/New_York
BEGIN:DAYLIGHT
TZOFFSETFROM:-0500
TZOFFSETTO:-0400
TZNAME:EDT
DTSTART:20230312T070000
END:DAYLIGHT
BEGIN:STANDARD
TZOFFSETFROM:-0400
TZOFFSETTO:-0500
TZNAME:EST
DTSTART:20231105T060000
END:STANDARD
BEGIN:DAYLIGHT
TZOFFSETFROM:-0500
TZOFFSETTO:-0400
TZNAME:EDT
DTSTART:20240310T070000
END:DAYLIGHT
BEGIN:STANDARD
TZOFFSETFROM:-0400
TZOFFSETTO:-0500
TZNAME:EST
DTSTART:20241103T060000
END:STANDARD
BEGIN:DAYLIGHT
TZOFFSETFROM:-0500
TZOFFSETTO:-0400
TZNAME:EDT
DTSTART:20250309T070000
END:DAYLIGHT
BEGIN:STANDARD
TZOFFSETFROM:-0400
TZOFFSETTO:-0500
TZNAME:EST
DTSTART:20251102T060000
END:STANDARD
END:VTIMEZONE
BEGIN:VEVENT
DTSTART;TZID=America/New_York:20240409T173000
DTEND;TZID=America/New_York:20240409T173000
DTSTAMP:20260425T222430
CREATED:20240321T165203Z
LAST-MODIFIED:20240326T160246Z
UID:19373-1712683800-1712683800@moonstoneartscenter.com
SUMMARY:Live Poetry: Ona Gritz\, Alina Macneal\, Zack Rogow
DESCRIPTION:Join us for Live Poetry at Fergie’s Pub and on Zoom! \nOna Gritz writes memoir\, essays\, and poetry for adults\, verse novels for teens\, and fiction for children\, her poetry collection Geode was a finalist for the Main Street Rag Poetry Book Award. Zack Rogow is an American poet\, playwright\, translator\, and critic. He is the author of nine books of poetry\, including Irreverent Litanies; Talking with the Radio: poems inspired by jazz and popular music\, and My Mother and the Ceiling Dancers. He has taught in several MFA creative writing programs and serves as a contributing editor of Catamaran Literary Reader. Daniel Simpson has appeared in Prairie Schooner\, the Cortland review\, and many other journals\, and works as a technical support specialist for the Library of Congress’s braille and audio book download service for the print-impaired. \nRegister for Zoom
URL:https://moonstoneartscenter.com/event/live-poetry-ona-gritz-alina-macneal-zack-rogow/
LOCATION:Fergie’s Pub\, 1214 Sansom Street\, Philadelphia\, PA\, United States
CATEGORIES:Poetry Events
ATTACH;FMTTYPE=image/png:https://moonstoneartscenter.com/wp-content/uploads/2024/03/april-9-2024-2.png
END:VEVENT
END:VCALENDAR