BEGIN:VCALENDAR
VERSION:2.0
PRODID:-//Moonstone Arts Center - ECPv6.15.20//NONSGML v1.0//EN
CALSCALE:GREGORIAN
METHOD:PUBLISH
X-WR-CALNAME:Moonstone Arts Center
X-ORIGINAL-URL:https://moonstoneartscenter.com
X-WR-CALDESC:Events for Moonstone Arts Center
REFRESH-INTERVAL;VALUE=DURATION:PT1H
X-Robots-Tag:noindex
X-PUBLISHED-TTL:PT1H
BEGIN:VTIMEZONE
TZID:America/New_York
BEGIN:DAYLIGHT
TZOFFSETFROM:-0500
TZOFFSETTO:-0400
TZNAME:EDT
DTSTART:20250309T070000
END:DAYLIGHT
BEGIN:STANDARD
TZOFFSETFROM:-0400
TZOFFSETTO:-0500
TZNAME:EST
DTSTART:20251102T060000
END:STANDARD
BEGIN:DAYLIGHT
TZOFFSETFROM:-0500
TZOFFSETTO:-0400
TZNAME:EDT
DTSTART:20260308T070000
END:DAYLIGHT
BEGIN:STANDARD
TZOFFSETFROM:-0400
TZOFFSETTO:-0500
TZNAME:EST
DTSTART:20261101T060000
END:STANDARD
BEGIN:DAYLIGHT
TZOFFSETFROM:-0500
TZOFFSETTO:-0400
TZNAME:EDT
DTSTART:20270314T070000
END:DAYLIGHT
BEGIN:STANDARD
TZOFFSETFROM:-0400
TZOFFSETTO:-0500
TZNAME:EST
DTSTART:20271107T060000
END:STANDARD
END:VTIMEZONE
BEGIN:VEVENT
DTSTART;TZID=America/New_York:20260304T190000
DTEND;TZID=America/New_York:20260304T210000
DTSTAMP:20260423T153432
CREATED:20260221T160815Z
LAST-MODIFIED:20260221T173610Z
UID:21015-1772650800-1772658000@moonstoneartscenter.com
SUMMARY:March 4\, 2026 - Live at Fergie's Pub
DESCRIPTION:Wednesday March 4\, 2026 – Live at Fergie’s Pub\nFeaturing: Jo Piazza\, Christina Rosso-Schneider\, and Julianna Forlano as Host\nJo Piazza is an international bestselling author\, award-winning journalist\, and podcast creator known for 12+ books\, including The Sicilian Inheritance and We Are Not Like Them. She hosts the critically acclaimed podcast Under the Influence. Her work spans fiction and non-fiction\, often exploring relationships\, motherhood\, and social commentary. \nChristina Rosso-Schneider (she/they) is a queer\, disabled writer based outside Philadelphia. She is the author of CREOLE CONJURE and SHE IS A BEAST. Her fiction and nonfiction—often exploring gender\, sexuality\, fairy tales\, and the occult—has been nominated for the Pushcart Prize\, Best of the Net\, and Best Small Fictions. She is also the co-owner of A Novel Idea\, an independent bookstore and event space on Passyunk named one of the best bookstores in the region by The Philadelphia Inquirer\, and teaches in the Humanities department at Moore College of Art and Design. \nJulianna Forlano of the Italian American Herald and Olive on the Apple Tree on Substack—centering Italianità\, ancestral voice\, and the stories that both carry us forward and root us to home. \nJulianna Forlano Host – Open Reading follows
URL:https://moonstoneartscenter.com/event/march-4-2026-live-at-fergies-pub/
LOCATION:Fergie’s Pub\, 1214 Sansom Street\, Philadelphia\, PA\, United States
CATEGORIES:Events,Poetry Events
ATTACH;FMTTYPE=image/png:https://moonstoneartscenter.com/wp-content/uploads/2026/02/March-4-2026-Fergies-Pub.png
END:VEVENT
BEGIN:VEVENT
DTSTART;TZID=America/New_York:20260310T183000
DTEND;TZID=America/New_York:20260310T193000
DTSTAMP:20260423T153432
CREATED:20260221T164428Z
LAST-MODIFIED:20260221T164428Z
UID:21029-1773167400-1773171000@moonstoneartscenter.com
SUMMARY:Philly Loves Poetry Interview and Readings Series
DESCRIPTION:Philly Loves Poetry Interview and Readings Series\nLive on PhillyCAM\nCan be viewed on the Phillycam website Or Cable 66/966HD/967 or Verizon FIOS\, 29/30 In Philadelphia. \nFeaturing: Lesley Valdes and Charles S. Carr as host\nLesley Valdes\, a classically trained pianist\, comes to poetry following a career in arts journalism — as classical music critic for The Philadelphia Inquirer and for other national publications and media. She lives in Philadelphia where she is on the faculty of the Fleisher Art Memorial\, an instructor of piano\, and ardent guest speaker for the Philadelphia Chamber Music Society. This is her debut collection. \n 
URL:https://moonstoneartscenter.com/event/philly-loves-poetry-interview-and-readings-series-3/
LOCATION:PA
CATEGORIES:Events,Poetry Events
ATTACH;FMTTYPE=image/png:https://moonstoneartscenter.com/wp-content/uploads/2020/08/Philly-Loves-Poetry-Interview-and-Rading-Series.png
END:VEVENT
END:VCALENDAR