BEGIN:VCALENDAR
VERSION:2.0
PRODID:-//Moonstone Arts Center - ECPv6.15.20//NONSGML v1.0//EN
CALSCALE:GREGORIAN
METHOD:PUBLISH
X-ORIGINAL-URL:https://moonstoneartscenter.com
X-WR-CALDESC:Events for Moonstone Arts Center
REFRESH-INTERVAL;VALUE=DURATION:PT1H
X-Robots-Tag:noindex
X-PUBLISHED-TTL:PT1H
BEGIN:VTIMEZONE
TZID:America/New_York
BEGIN:DAYLIGHT
TZOFFSETFROM:-0500
TZOFFSETTO:-0400
TZNAME:EDT
DTSTART:20230312T070000
END:DAYLIGHT
BEGIN:STANDARD
TZOFFSETFROM:-0400
TZOFFSETTO:-0500
TZNAME:EST
DTSTART:20231105T060000
END:STANDARD
BEGIN:DAYLIGHT
TZOFFSETFROM:-0500
TZOFFSETTO:-0400
TZNAME:EDT
DTSTART:20240310T070000
END:DAYLIGHT
BEGIN:STANDARD
TZOFFSETFROM:-0400
TZOFFSETTO:-0500
TZNAME:EST
DTSTART:20241103T060000
END:STANDARD
BEGIN:DAYLIGHT
TZOFFSETFROM:-0500
TZOFFSETTO:-0400
TZNAME:EDT
DTSTART:20250309T070000
END:DAYLIGHT
BEGIN:STANDARD
TZOFFSETFROM:-0400
TZOFFSETTO:-0500
TZNAME:EST
DTSTART:20251102T060000
END:STANDARD
END:VTIMEZONE
BEGIN:VEVENT
DTSTART;TZID=America/New_York:20240402T170000
DTEND;TZID=America/New_York:20240402T170000
DTSTAMP:20260425T225212
CREATED:20240321T155826Z
LAST-MODIFIED:20240326T151000Z
UID:19361-1712077200-1712077200@moonstoneartscenter.com
SUMMARY:Poetry Reading: Montgomery County Youth Poet Laureate Finalists
DESCRIPTION:Moonstone Arts Center and the Literature Department of The Free Liberty of Philadelphia Present: Montgomery County Youth Poet Laureate Finalists  \nThe Montgomery County Youth Poet Laureate Program is designed to award a young poet (14-18) the title of Youth Poet Laureate who is well versed in poetic expression\, exemplifies a deep understanding of poetic language\, exhibits uniqueness and newness\, and shows appreciation for all art forms. \nFeaturing Sofia Bagarazzi\, Maya Brothers\, Sophia Hall\, Emi Maeda\, Samrithaa H.V. \nSofia Bagarazzi is a sophomore at Friends’ Central School. She plays a multitude of sports and is involved with BSA and Girl Scouts. She loves to read\, write\, cook\, and play with her dog and cats! Maya Brothers is a sophomore at Friends’ Central School\, captain of the Debate Tea\, a competitive cyclist and she loves to weightlift. In her free time\, she writes poetry\, draws & paints\, and participates in mock trial.Sophia Hall lives a double life: eighteen-year-old poet by day\, secret agent by night. Her writing has been recognized by the Scholastic Art & Writing Awards\, the Library of Congress\, and Button Poetry. Emi Maeda is a Junior at The Baldwin School. Her work has appeared in the NY Seikatsu Newspaper\, The Rising Phoenix Review\, The Kenyon Young Writer’s Anthology\, and more\, and she is the first-place winner of the Charlotte Miller Poetry Contest. Samrithaa H.V. is a freshman at Methacton Senior High School\, currently a writer and editor for Element\, a superior Literary Arts Magazine and certified staff writer for her school newspaper\, The Windy Hill. \n王潇/Evan Wang is the first Youth Poet Laureate of Montgomery County\, Pennsylvania and is judge and host of this reading
URL:https://moonstoneartscenter.com/event/poetry-reading-montgomery-county-youth-poet-laureate-finalists/
LOCATION:The Free Library of Philadelphia\, 1901 Vine Street\, 1901 Vine Street\, Philadelphia\, PA\, 19104\, United States
CATEGORIES:Poetry Events
ATTACH;FMTTYPE=image/png:https://moonstoneartscenter.com/wp-content/uploads/2024/03/mont-co-youth-poet-laureate-updated-1.png
END:VEVENT
END:VCALENDAR