BEGIN:VCALENDAR
VERSION:2.0
PRODID:-//Moonstone Arts Center - ECPv6.15.20//NONSGML v1.0//EN
CALSCALE:GREGORIAN
METHOD:PUBLISH
X-ORIGINAL-URL:https://moonstoneartscenter.com
X-WR-CALDESC:Events for Moonstone Arts Center
REFRESH-INTERVAL;VALUE=DURATION:PT1H
X-Robots-Tag:noindex
X-PUBLISHED-TTL:PT1H
BEGIN:VTIMEZONE
TZID:America/New_York
BEGIN:DAYLIGHT
TZOFFSETFROM:-0500
TZOFFSETTO:-0400
TZNAME:EDT
DTSTART:20230312T070000
END:DAYLIGHT
BEGIN:STANDARD
TZOFFSETFROM:-0400
TZOFFSETTO:-0500
TZNAME:EST
DTSTART:20231105T060000
END:STANDARD
BEGIN:DAYLIGHT
TZOFFSETFROM:-0500
TZOFFSETTO:-0400
TZNAME:EDT
DTSTART:20240310T070000
END:DAYLIGHT
BEGIN:STANDARD
TZOFFSETFROM:-0400
TZOFFSETTO:-0500
TZNAME:EST
DTSTART:20241103T060000
END:STANDARD
BEGIN:DAYLIGHT
TZOFFSETFROM:-0500
TZOFFSETTO:-0400
TZNAME:EDT
DTSTART:20250309T070000
END:DAYLIGHT
BEGIN:STANDARD
TZOFFSETFROM:-0400
TZOFFSETTO:-0500
TZNAME:EST
DTSTART:20251102T060000
END:STANDARD
END:VTIMEZONE
BEGIN:VEVENT
DTSTART;TZID=America/New_York:20240806T183000
DTEND;TZID=America/New_York:20240806T193000
DTSTAMP:20260426T003134
CREATED:20240717T144340Z
LAST-MODIFIED:20240724T183803Z
UID:19692-1722969000-1722972600@moonstoneartscenter.com
SUMMARY:Philly Loves Poetry: Interview and Readings Series Live Broadcast
DESCRIPTION:Can be viewed on the Phillycam website or Cable 66/966HD/967 or Verizon FIOS\, 29/30 In Philadelphia. \nJames Feichthaler is a poet with roots in the Philadelphia-area residing in Trenton\, NJ\, where he watches the skies for UFOs\, sings Irish folk songs on his porch\, and drinks beers. He was the host of an open mic reading series called The Dead Bards of Philadelphia for over ten years. His new book From the Back Porch of a War pulls no punches in its assessment of a politically-divided America seemingly at war with itself\, searching for moral integrity in a hashtag-hardened\, spiritually-bankrupt world. \nCharles S. Carr\, Host
URL:https://moonstoneartscenter.com/event/philly-loves-poetry-interview-and-readings-series-live-broadcast/
LOCATION:PA
END:VEVENT
BEGIN:VEVENT
DTSTART;TZID=America/New_York:20240814T190000
DTEND;TZID=America/New_York:20240814T203000
DTSTAMP:20260426T003134
CREATED:20240724T153202Z
LAST-MODIFIED:20240724T183916Z
UID:19708-1723662000-1723667400@moonstoneartscenter.com
SUMMARY:Moonstone Poetry: Fatal Force: Poetic Justice
DESCRIPTION:LIVE at Taller Puertorriqueño\n2600 N 5th St\, Philadelphia\, PA 19133 \nPolice killed 1\,352 victims the U.S. 2023  (mappingpoliceviolence.org). \nOn August 14\, 2023 Police officer\, Mark Dial shot and killed Eddie Irizarry. Philadelphia police told the media that the incident began when officers pulled over a car that was “driving erratically” and that “officers approached” the car\, that Irizarry “stepped out” of the car “with a knife” and that the “officers gave multiple commands for him to drop the knife\, and that  Irizarry “lunged at the officers”\, prompting the shooting. On August 15th\, Philadelphia police changed their story\, stating that Irizarry was actually in the car when he was shot six times.  Retracting the cover up\, Philadelphia Police Commissioner Danielle Outlaw stated that officers’ body-worn camera footage “made it very clear that what we initially reported was not actually what happened.” Martín Espada recently wrote a poem to elegize the innocent young man whose alleged murder this past August is an outrage. \nThis initiative is co-sponsored by Casa de Duende as well as Taller Puertorriqueño and Moonstone. On the anniversary of Eddie Irizarry’s death\, the anthology will commemorate the book’s publication.
URL:https://moonstoneartscenter.com/event/moonstone-poetry-fatal-force-poetic-justice/
LOCATION:2600 N 5th St\, Philadelphia\, PA 19133\, 2600 N 5th St\, Philadelphia\, PA\, 19133\, United States
END:VEVENT
BEGIN:VEVENT
DTSTART;TZID=America/New_York:20240824T153000
DTEND;TZID=America/New_York:20240824T173000
DTSTAMP:20260426T003134
CREATED:20240724T170232Z
LAST-MODIFIED:20240724T183706Z
UID:19723-1724513400-1724520600@moonstoneartscenter.com
SUMMARY:Moonstone Presents: Independence Day of Ukraine Poetry Reading
DESCRIPTION:Wednesday August 24\, 2024 – 3:30pm \n \nLive at at Barnes & Noble\, 1708 Chestnut Street\nJulia Kolchinsky Dashbach is the author of 40 WEEKS\, Don’t Touch the Bones\, winner of the 2019 Idaho Poetry Prize\, and The Many Names for Mother\, winner the Wick Poetry Prize and finalist for the Jewish Book Award. She is currently working on a poetry collection as well as a book of linked lyric essays\, both of which grapple with raising a neurodiverse child with a disabled partner under the shadow of the war in Ukraine\, Julia’s birthplace. Her poems have appeared in POETRY\, Ploughshares\, American Poetry Review\, The Nation\, and AGNI\, among others.\nKateryna Derysheva is a Ukrainian poet from Kharkiv\, co-founder and organizer of the kntxt literary project. Her poems and translations have been published in the journals: Plume\, Zerkalo\, Tlen Literacki\, Literatur in Bayern\, Literaturportal Bayern\, Visions\, Volga\, SoFloPoJo\, The Colon\, Literature\, Articulation\, New Coast\, Arion\, Homo legens\, Kreshchatik\, and others. She is the author of the books Starting Point\, There Will Be No Installation; co-author of the book Earth time. She was long-listed for the Arkadiy Dragomoshchenko Prize (2019) and is laureate of the Europa Mai Prize. Her poems and essays have been translated into 11 languages.)\nOlena Jennings is the author of the poetry collection The Age of Secrets\, the chapbook Memory Project\, and the novel Temporary Shelter. She is a translator of collections by Ukrainian poets\, Kateryna Kalytko\, together with Oksana Lutsyshyna\, Iryna Shuvalova\, together with the author\, and Vasyl Makhno.  Her translation\, together with the author\, of Yuliya Musakovska’s The God of Freedom was released in May 2024 from Arrowsmith Press. She founded and curates the Poets of Queens reading series and press.\nOlga Livshin’s poetry and translations appear in the New York Times\, Ploughshares\, the Kenyon Review\, and other journals. She is the author of A Life Replaced: Poems with Translations from Anna Akhmatova and Vladimir Gandelsman. Livshin co-translated A Man Only Needs a Room\, a volume of Vladimir Gandelsman’s poetry and Today is a Different War by the Ukrainian poet Lyudmyla Khersonska\,. She is a private creative writing teacher\, working with children.
URL:https://moonstoneartscenter.com/event/moonstone-presents-independence-day-of-ukraine-poetry-reading/
LOCATION:Barnes and Noble 1708 Chesnut St.\, 1708 Chesnut Street.\, Phildelphia\, PA\, 19122\, United States
CATEGORIES:Events,Poetry,Poetry Events
END:VEVENT
END:VCALENDAR