BEGIN:VCALENDAR
VERSION:2.0
PRODID:-//Moonstone Arts Center - ECPv6.15.20//NONSGML v1.0//EN
CALSCALE:GREGORIAN
METHOD:PUBLISH
X-WR-CALNAME:Moonstone Arts Center
X-ORIGINAL-URL:https://moonstoneartscenter.com
X-WR-CALDESC:Events for Moonstone Arts Center
REFRESH-INTERVAL;VALUE=DURATION:PT1H
X-Robots-Tag:noindex
X-PUBLISHED-TTL:PT1H
BEGIN:VTIMEZONE
TZID:America/New_York
BEGIN:DAYLIGHT
TZOFFSETFROM:-0500
TZOFFSETTO:-0400
TZNAME:EDT
DTSTART:20240310T070000
END:DAYLIGHT
BEGIN:STANDARD
TZOFFSETFROM:-0400
TZOFFSETTO:-0500
TZNAME:EST
DTSTART:20241103T060000
END:STANDARD
BEGIN:DAYLIGHT
TZOFFSETFROM:-0500
TZOFFSETTO:-0400
TZNAME:EDT
DTSTART:20250309T070000
END:DAYLIGHT
BEGIN:STANDARD
TZOFFSETFROM:-0400
TZOFFSETTO:-0500
TZNAME:EST
DTSTART:20251102T060000
END:STANDARD
BEGIN:DAYLIGHT
TZOFFSETFROM:-0500
TZOFFSETTO:-0400
TZNAME:EDT
DTSTART:20260308T070000
END:DAYLIGHT
BEGIN:STANDARD
TZOFFSETFROM:-0400
TZOFFSETTO:-0500
TZNAME:EST
DTSTART:20261101T060000
END:STANDARD
END:VTIMEZONE
BEGIN:VEVENT
DTSTART;TZID=America/New_York:20251001T190000
DTEND;TZID=America/New_York:20251001T190000
DTSTAMP:20260424T073835
CREATED:20250921T150352Z
LAST-MODIFIED:20250921T151308Z
UID:20633-1759345200-1759345200@moonstoneartscenter.com
SUMMARY:Live Poetry and Music
DESCRIPTION:Wednesday October 1\, 2025 – 7pm- LIVE – Poetry & Music \nLive at Fergie’s Pub\, 1214 Sansom Street \nLaunch of A Little Music For the Soft War by Mark Svenvold \nPoet\, songwriter\, and nonfiction writer\, Mark Svenvold’s book of poems\, Soul Data\, won the Vassar Miller Award\, selected by Heather McHugh; Empire Burlesque\, won The Journal Prize. Svenvold’s poems have been published in The New Yorker\, The Nation\, The Atlantic Monthly\, and others. He teaches creative writing at Seton Hall University. A denizen and regular performer at CBGB’s before it became a clothing store\, Ted Sabety studied guitar with Larry Coryell\, electronic music with Morton Subotnick\, and  composition with Marty Bresnick. Recently\, his punk-wave act Les Techno’s  “Edge of the World” reached # 20 and #144\, respectively\, on the Indie DRT and Global DRT charts. \nWith Special Features \n“Elliot Levin on tenor saxophone and flute\, has a career as a published poet and likes to combine the two aesthetics in his performances\, much to the delight of the growing live poetry audience\, there is nothing watered-down about his performances\, no attempt to make the music a bit more accessible to the novices\, tender-hearted or just plain wimpy. On the poetry scene he has performed with Miguel Algarin\, Gloria Tropp\, Mbali Umoja\, Marty Watt\, and Frank Messina. \nLindsay Hargrave is a poet\, first mate at Scribes on South\, a coproducer at House Poet\, half of the experimental group Kelpius\, the author of two chapbooks and a copywriter for Temple University. Aaren Perry Host: Open Reading Follows
URL:https://moonstoneartscenter.com/event/live-poetry-and-music/
LOCATION:Fergie’s Pub\, 1214 Sansom Street\, Philadelphia\, PA\, United States
CATEGORIES:Poetry Events
ATTACH;FMTTYPE=image/png:https://moonstoneartscenter.com/wp-content/uploads/2025/09/Pink-and-White-Modern-Feminine-Inspirational-Reminder-Quote-Instagram-Post-1.png
END:VEVENT
END:VCALENDAR