BEGIN:VCALENDAR
VERSION:2.0
PRODID:-//Moonstone Arts Center - ECPv6.15.20//NONSGML v1.0//EN
CALSCALE:GREGORIAN
METHOD:PUBLISH
X-WR-CALNAME:Moonstone Arts Center
X-ORIGINAL-URL:https://moonstoneartscenter.com
X-WR-CALDESC:Events for Moonstone Arts Center
REFRESH-INTERVAL;VALUE=DURATION:PT1H
X-Robots-Tag:noindex
X-PUBLISHED-TTL:PT1H
BEGIN:VTIMEZONE
TZID:America/New_York
BEGIN:DAYLIGHT
TZOFFSETFROM:-0500
TZOFFSETTO:-0400
TZNAME:EDT
DTSTART:20250309T070000
END:DAYLIGHT
BEGIN:STANDARD
TZOFFSETFROM:-0400
TZOFFSETTO:-0500
TZNAME:EST
DTSTART:20251102T060000
END:STANDARD
BEGIN:DAYLIGHT
TZOFFSETFROM:-0500
TZOFFSETTO:-0400
TZNAME:EDT
DTSTART:20260308T070000
END:DAYLIGHT
BEGIN:STANDARD
TZOFFSETFROM:-0400
TZOFFSETTO:-0500
TZNAME:EST
DTSTART:20261101T060000
END:STANDARD
BEGIN:DAYLIGHT
TZOFFSETFROM:-0500
TZOFFSETTO:-0400
TZNAME:EDT
DTSTART:20270314T070000
END:DAYLIGHT
BEGIN:STANDARD
TZOFFSETFROM:-0400
TZOFFSETTO:-0500
TZNAME:EST
DTSTART:20271107T060000
END:STANDARD
END:VTIMEZONE
BEGIN:VEVENT
DTSTART;TZID=America/New_York:20260307T170000
DTEND;TZID=America/New_York:20260307T190000
DTSTAMP:20260423T165624
CREATED:20260221T162858Z
LAST-MODIFIED:20260221T162858Z
UID:21022-1772902800-1772910000@moonstoneartscenter.com
SUMMARY:Saturday March 7\, 2026 - ICE OUT - LIVE READING
DESCRIPTION:Saturday March 7\, 2026 – ICE OUT – LIVE READING\nAt Samuel S. Fleisher Art Memorial\, 719 Catherine Street\, Philadelphia\nImmigration and Customs Enforcement (ICE) are acting like the Nazi German SS who were tasked with detection of potential enemies of the state\, the neutralization of opposition and providing  domestic and foreign intelligence. The SS was most responsible for the genocidal murder of an estimated 6 million Jews and millions of other victims during the holocaust. \nOn January 7th\, ICE agents carrying out an operation in south Minneapolis were briefly obstructed by a car blocking traffic. ICE agents approached the female driver\, 37-year-old Renee Nicole Good\, yelling\, “Get out of the fucking car\,” and one of them attempted to open the driver’s-side door. After the driver backed up to turn around and move\, another agent drew his gun and unloaded three shots into the car. The car barreled into a light pole about 100 feet down the road\, and the driver was quickly pronounced dead. This is confirmed by eyewitness accounts and videos from multiple angles. \nMake Yourself Heard Everyone is Invited
URL:https://moonstoneartscenter.com/event/saturday-march-7-2026-ice-out-live-reading/
LOCATION:Samuel S Fletcher Art Memorial\, 719 Catherine Street\, Philadelphia\, PA\, 19147\, United States
CATEGORIES:Poetry Events
ATTACH;FMTTYPE=image/png:https://moonstoneartscenter.com/wp-content/uploads/2026/02/ICE-OUT-Live-Reading-1.png
END:VEVENT
END:VCALENDAR