BEGIN:VCALENDAR
VERSION:2.0
PRODID:-//Moonstone Arts Center - ECPv6.15.20//NONSGML v1.0//EN
CALSCALE:GREGORIAN
METHOD:PUBLISH
X-WR-CALNAME:Moonstone Arts Center
X-ORIGINAL-URL:https://moonstoneartscenter.com
X-WR-CALDESC:Events for Moonstone Arts Center
REFRESH-INTERVAL;VALUE=DURATION:PT1H
X-Robots-Tag:noindex
X-PUBLISHED-TTL:PT1H
BEGIN:VTIMEZONE
TZID:America/New_York
BEGIN:DAYLIGHT
TZOFFSETFROM:-0500
TZOFFSETTO:-0400
TZNAME:EDT
DTSTART:20240310T070000
END:DAYLIGHT
BEGIN:STANDARD
TZOFFSETFROM:-0400
TZOFFSETTO:-0500
TZNAME:EST
DTSTART:20241103T060000
END:STANDARD
BEGIN:DAYLIGHT
TZOFFSETFROM:-0500
TZOFFSETTO:-0400
TZNAME:EDT
DTSTART:20250309T070000
END:DAYLIGHT
BEGIN:STANDARD
TZOFFSETFROM:-0400
TZOFFSETTO:-0500
TZNAME:EST
DTSTART:20251102T060000
END:STANDARD
BEGIN:DAYLIGHT
TZOFFSETFROM:-0500
TZOFFSETTO:-0400
TZNAME:EDT
DTSTART:20260308T070000
END:DAYLIGHT
BEGIN:STANDARD
TZOFFSETFROM:-0400
TZOFFSETTO:-0500
TZNAME:EST
DTSTART:20261101T060000
END:STANDARD
END:VTIMEZONE
BEGIN:VEVENT
DTSTART;TZID=America/New_York:20250205T190000
DTEND;TZID=America/New_York:20250205T210000
DTSTAMP:20260425T090912
CREATED:20250119T215902Z
LAST-MODIFIED:20250128T161006Z
UID:20038-1738782000-1738789200@moonstoneartscenter.com
SUMMARY:The Moonstone Hosts 2024 Read
DESCRIPTION:The Moonstone Hosts 2024 Read: Live Poetry @ Fergies Pub \nAnd on Zoom\, register here: https://us06web.zoom.us/meeting/register/tZUlfuCurDksGdR2-uQW3lE4O8D8JI2H4c4P#/registration \nMoonstone presents about 100 poetry readings and publishes 35 books a year. \nWe have numerous hosts representing various communities in a attempt to get you to listen to someone you never heard of. Nothing gives me more pleasure than “discovering” someone I don’t know read something I really like. This is the Art of Inclusion. \nCharles Carr\, author of paradise\, pennsylvania and Haitian Mud Pies And Other Poemhost of Philly Loves Poetry a live monthly broadcast on PhillyCAM. \nMac Chandler has been published in some places and has done like a lot of cool literary things you’ve probably never heard of. \nMassimo Elijah is a spoken word artist and Philadelphia native. He is thankful to be among so many people doing beautiful and positive things. \nAaron Gadbury is a poet & co-producer of @housepoetphilly. Known as a nightlife legend and dance icon. \nLindsay Hargrave reads poems with the improvised music group Oarsman and the indie pop band Mỹ Tâm and serves as managing editor for Rejection Letters. \nSean Hanrahan\, author of several books and is included in several anthologies and journals\, he is host of Moonstone third Wednesday at Fergie’s Pub. \nJennifer Hook\, author of This is How He Left Me\, chose poetry as an entry into the territory of loss and self-reinvention. \nWarren C. Longmire’s latest book is Bird/Diz [an erased history of bebop]. He is the host of House Poet: A Spoken Word Dance Party and mix_lit. \nAlina Macneal has been a member of the faculty at Drexel University for over 20 years\, is a educator/writer/poet/translator/architect whose poems have in numerous journals. \nAmy Saul-Zerby\, author of several books\, edits Voicemail Poems\, her poems have appeared in various journals. \nAnne-Adele Wight is the author of four books\, she curated the multi-genre performance series Jubilant Thicket. Her work has been published internationally in print and online.
URL:https://moonstoneartscenter.com/event/the-moonstone-hosts-2024-read/
LOCATION:Fergie’s Pub\, 1214 Sansom Street\, Philadelphia\, PA\, United States
CATEGORIES:Poetry Events
ATTACH;FMTTYPE=image/jpeg:https://moonstoneartscenter.com/wp-content/uploads/2025/01/Moonstone-Hosts-2024-Read_Square.jpg
END:VEVENT
BEGIN:VEVENT
DTSTART;TZID=America/New_York:20250212T190000
DTEND;TZID=America/New_York:20250212T210000
DTSTAMP:20260425T090912
CREATED:20250119T221708Z
LAST-MODIFIED:20250209T165601Z
UID:20043-1739386800-1739394000@moonstoneartscenter.com
SUMMARY:Live Poetry: Robert Coles\, Alison Hicks\, and Roland Leander Williams
DESCRIPTION:Live Poetry: Robert Coles\, Alison Hicks\, and Roland Leander Williams\nWednesday February 12\, 2025 – 7:00pm \nLive at Fergie’s Pub\,1214 Sansom Street \nFor Zoom\, register here: \nhttps://us06web.zoom.us/meeting/register/4vYhPZXETFGJrideJAk8-Q#/registration \nRobert Coles has published over one hundred poems in various journals\, anthologies\, and magazines. \nAlison Hicks was finalist for the 2021 Beullah Rose prize from Smartis Pace\, and Editor’s Choice selection for the 2024 Philadelphia Stories National Poetry Prize\, and nominated for a Pushcart Prize. \nMassimo Lavelle will read on behalf of Roland Leander Williams is a professor and chair of the English department at Temple University\, where he teaches courses on African-American culture and American society. He is the author of three books and has published fiction and poetry inspired by his life in the city. \nOpen Reading Follows
URL:https://moonstoneartscenter.com/event/live-poetry-robert-coles-alison-hicks-and-roland-leander-williams/
LOCATION:Fergie’s Pub\, 1214 Sansom Street\, Philadelphia\, PA\, United States
ATTACH;FMTTYPE=image/jpeg:https://moonstoneartscenter.com/wp-content/uploads/2025/01/Fergies-212-Reading_Square.jpg
END:VEVENT
END:VCALENDAR