BEGIN:VCALENDAR
VERSION:2.0
PRODID:-//Moonstone Arts Center - ECPv6.15.20//NONSGML v1.0//EN
CALSCALE:GREGORIAN
METHOD:PUBLISH
X-ORIGINAL-URL:https://moonstoneartscenter.com
X-WR-CALDESC:Events for Moonstone Arts Center
REFRESH-INTERVAL;VALUE=DURATION:PT1H
X-Robots-Tag:noindex
X-PUBLISHED-TTL:PT1H
BEGIN:VTIMEZONE
TZID:America/New_York
BEGIN:DAYLIGHT
TZOFFSETFROM:-0500
TZOFFSETTO:-0400
TZNAME:EDT
DTSTART:20220313T070000
END:DAYLIGHT
BEGIN:STANDARD
TZOFFSETFROM:-0400
TZOFFSETTO:-0500
TZNAME:EST
DTSTART:20221106T060000
END:STANDARD
BEGIN:DAYLIGHT
TZOFFSETFROM:-0500
TZOFFSETTO:-0400
TZNAME:EDT
DTSTART:20230312T070000
END:DAYLIGHT
BEGIN:STANDARD
TZOFFSETFROM:-0400
TZOFFSETTO:-0500
TZNAME:EST
DTSTART:20231105T060000
END:STANDARD
BEGIN:DAYLIGHT
TZOFFSETFROM:-0500
TZOFFSETTO:-0400
TZNAME:EDT
DTSTART:20240310T070000
END:DAYLIGHT
BEGIN:STANDARD
TZOFFSETFROM:-0400
TZOFFSETTO:-0500
TZNAME:EST
DTSTART:20241103T060000
END:STANDARD
END:VTIMEZONE
BEGIN:VEVENT
DTSTART;TZID=America/New_York:20231227T190000
DTEND;TZID=America/New_York:20231227T203000
DTSTAMP:20260426T001507
CREATED:20231122T161432Z
LAST-MODIFIED:20231216T173717Z
UID:19059-1703703600-1703709000@moonstoneartscenter.com
SUMMARY:Poetry Reading: Cydney Brown\, Savannah Cooper-Ramsey\, & Lawrence Dugan
DESCRIPTION:Wednesday\, 12/27 LIVE @ Fergie’s Pub\n7PM ET & on Zoom\nZoom Registration: https://us02web.zoom.us/meeting/register/tZEvcOGspzgiG9ISfRlJNdRQj2faXJsWhktf \n\nCydney Brown is the 2023 Northeast Regional Youth Poet Laureate\, 2020-2021 Philadelphia Youth Poet Laureate and author of Daydreaming. She is a Sophomore at Northwestern University and has been writing poetry since she was in 5th grade. \nSavannah Cooper-Ramsey’s published an artist book\, Not Fit For Print: Forthcoming Titles (Waterhouse Ltd Press\, 2018) and poems in publications like the Moonstone anthologies\, Whirlwind Magazine\, Bomb Magaine\, and Cul-de-sac of Blood (forthcoming). She received a PhD in Italian from Columbia University. She works in the service industry and teaches at CCP. \nLawrence Dugan’s new book\, The Sea again: Poems\, made up of poems that first appeared in magazines and journals such as Daedqlus\, Arion\, Cyphers\, The Gettysburg Review\, Nation Review  and others. He is retired from The Free Library of Philadelphia where he once ran the Monday Poets Series. \n\nLarry Robi\, Host – Open Reading Follows
URL:https://moonstoneartscenter.com/event/poetry-reading-cydney-brown-charles-s-carr-lawrence-dugan/
LOCATION:Fergie’s Pub\, 1214 Sansom Street\, Philadelphia\, PA\, United States
CATEGORIES:Poetry
ATTACH;FMTTYPE=image/png:https://moonstoneartscenter.com/wp-content/uploads/2023/11/Live-Poetry-1227-@-7P-1.png
END:VEVENT
END:VCALENDAR