BEGIN:VCALENDAR
VERSION:2.0
PRODID:-//Moonstone Arts Center - ECPv6.15.20//NONSGML v1.0//EN
CALSCALE:GREGORIAN
METHOD:PUBLISH
X-WR-CALNAME:Moonstone Arts Center
X-ORIGINAL-URL:https://moonstoneartscenter.com
X-WR-CALDESC:Events for Moonstone Arts Center
REFRESH-INTERVAL;VALUE=DURATION:PT1H
X-Robots-Tag:noindex
X-PUBLISHED-TTL:PT1H
BEGIN:VTIMEZONE
TZID:America/New_York
BEGIN:DAYLIGHT
TZOFFSETFROM:-0500
TZOFFSETTO:-0400
TZNAME:EDT
DTSTART:20230312T070000
END:DAYLIGHT
BEGIN:STANDARD
TZOFFSETFROM:-0400
TZOFFSETTO:-0500
TZNAME:EST
DTSTART:20231105T060000
END:STANDARD
BEGIN:DAYLIGHT
TZOFFSETFROM:-0500
TZOFFSETTO:-0400
TZNAME:EDT
DTSTART:20240310T070000
END:DAYLIGHT
BEGIN:STANDARD
TZOFFSETFROM:-0400
TZOFFSETTO:-0500
TZNAME:EST
DTSTART:20241103T060000
END:STANDARD
BEGIN:DAYLIGHT
TZOFFSETFROM:-0500
TZOFFSETTO:-0400
TZNAME:EDT
DTSTART:20250309T070000
END:DAYLIGHT
BEGIN:STANDARD
TZOFFSETFROM:-0400
TZOFFSETTO:-0500
TZNAME:EST
DTSTART:20251102T060000
END:STANDARD
END:VTIMEZONE
BEGIN:VEVENT
DTSTART;TZID=America/New_York:20240402T183000
DTEND;TZID=America/New_York:20240402T183000
DTSTAMP:20260425T120413
CREATED:20240321T164747Z
LAST-MODIFIED:20240321T175050Z
UID:19371-1712082600-1712082600@moonstoneartscenter.com
SUMMARY:Virtual Poetry: Moonstone Poetry @ PhillyCAM with Brain Tierney
DESCRIPTION:Moonstone Poetry @ PhillyCAM \nCan be viewed on the Phillycam website Or Cable 6/966HD/967 or Verizon FIOS\, 29/30 In Philadelphia. \nPhilly Loves Poetry Interview and Readings Series \nBrian Tierney is the author of Rise and Float\, winner of the 20-2021 Jake Adam York Prize. His poetry and prose have appeared in such journals as Paris Review\, Kenyon Review\, AGNI\, NER\, The Adroit Journal\, and others. A former Wallace Stegner Fellow at Stanford University\, and a graduate of the Bennington College MFA Writing Seminars\, he was named among Narrative Magazine’s 2013 “30 Below 30” emerging writers\, and is winner of the 2018 George Bogin Memorial Award from The Poetry Society of America. Raised in Philadelphia\, he lives in Oakland\, Ca.\, where he teaches poetry at The Writing Salon. \nCharles S. Carr\, Host
URL:https://moonstoneartscenter.com/event/virtual-poetry-moonstone-poetry-phillycam-with-brain-tierney/
LOCATION:PA
CATEGORIES:Poetry Events
ATTACH;FMTTYPE=image/png:https://moonstoneartscenter.com/wp-content/uploads/2024/03/april-2.png
END:VEVENT
BEGIN:VEVENT
DTSTART;TZID=America/New_York:20240403T190000
DTEND;TZID=America/New_York:20240403T190000
DTSTAMP:20260425T120413
CREATED:20240321T162601Z
LAST-MODIFIED:20240326T153719Z
UID:19367-1712170800-1712170800@moonstoneartscenter.com
SUMMARY:Live Poetry: Anuradha Bhowmik\, Diane Sahms-Guarnieri\, Jess Yuan
DESCRIPTION:Join us for a poetry reading\, live at Fergie’s Pub and on Zoom! \nAnuradha Bhowmik  is a Bangladeshi-American poet and writer from South Jersey\, winner of the Agnes Lynch Starrett Poetry Prize for her first collection Brown Girl Chromatography\, a Kundiman Fellow and a 2018 AWP Intro Journals Project Winner in Poetry. Diane Sahms-Guarnieri\, a native Philadelphian\, is the author 8 books\, the latest of which is Blues\, Prayers\, & Pagan Chant. She has been published in The Philadelphia Inquirer\, Pennsylvania Literary Journal\, Many Mountains Moving\, Philadelphia Stories. Jess Yuan is a poet\, educator\, and architect\, author of the Slow Render\, winner of the Airlie Prize\, and Threshold Amnesia\, winner of the Yemassee Chapbook Contest\, her poems appear in Best New Poets\, Tupelo Quarterly Review\, jubilat\, and elsewhere. \nRegister for zoom
URL:https://moonstoneartscenter.com/event/live-poetry-anuradha-bhowmik-diane-sahms-guarnieri-jess-yuan/
LOCATION:Fergie’s Pub\, 1214 Sansom Street\, Philadelphia\, PA\, United States
CATEGORIES:Poetry Events
ATTACH;FMTTYPE=image/png:https://moonstoneartscenter.com/wp-content/uploads/2024/03/april-3-final-1.png
END:VEVENT
BEGIN:VEVENT
DTSTART;TZID=America/New_York:20240409T173000
DTEND;TZID=America/New_York:20240409T173000
DTSTAMP:20260425T120413
CREATED:20240321T165203Z
LAST-MODIFIED:20240326T160246Z
UID:19373-1712683800-1712683800@moonstoneartscenter.com
SUMMARY:Live Poetry: Ona Gritz\, Alina Macneal\, Zack Rogow
DESCRIPTION:Join us for Live Poetry at Fergie’s Pub and on Zoom! \nOna Gritz writes memoir\, essays\, and poetry for adults\, verse novels for teens\, and fiction for children\, her poetry collection Geode was a finalist for the Main Street Rag Poetry Book Award. Zack Rogow is an American poet\, playwright\, translator\, and critic. He is the author of nine books of poetry\, including Irreverent Litanies; Talking with the Radio: poems inspired by jazz and popular music\, and My Mother and the Ceiling Dancers. He has taught in several MFA creative writing programs and serves as a contributing editor of Catamaran Literary Reader. Daniel Simpson has appeared in Prairie Schooner\, the Cortland review\, and many other journals\, and works as a technical support specialist for the Library of Congress’s braille and audio book download service for the print-impaired. \nRegister for Zoom
URL:https://moonstoneartscenter.com/event/live-poetry-ona-gritz-alina-macneal-zack-rogow/
LOCATION:Fergie’s Pub\, 1214 Sansom Street\, Philadelphia\, PA\, United States
CATEGORIES:Poetry Events
ATTACH;FMTTYPE=image/png:https://moonstoneartscenter.com/wp-content/uploads/2024/03/april-9-2024-2.png
END:VEVENT
BEGIN:VEVENT
DTSTART;TZID=America/New_York:20240410T190000
DTEND;TZID=America/New_York:20240410T190000
DTSTAMP:20260425T120413
CREATED:20240321T165815Z
LAST-MODIFIED:20240326T161700Z
UID:19375-1712775600-1712775600@moonstoneartscenter.com
SUMMARY:Live Poetry: zach blackwood\, Faye Chevalier\, Violet Gehringer
DESCRIPTION:Join us for Live Poetry at Fergie’s Pub and on Zoom! \nzach blackwood is a poet and culture writer in philadelphia\, author of ultra-fine and the apocryphal chapbook sexy unique hollow point. Faye Chevalier is a Philadelphia-based creatur\, lurking. She is the author of futur.txt and flesh_wound\, her poetry has been featured in bedfellows\, The Wanderer\, Peach Mag\, Yes Poetry\, the tiny\, & elsewhere\, & she serves as a editor for Voicemail Poems.  Violet Gehringer’s work has appeared in Vice\, them.\, Barrelhouse\, and elsewhere. Her first book of poems\, i love you it looks like rain\, was published by Be About It in 2017. She lives in Philadelphia with her cat\, Noodle. \nAmy Saul-Zerby\, Host – open reading follows  \nRegister for Zoom
URL:https://moonstoneartscenter.com/event/live-poetry-faye-chevalier-zach-blackwood-violet-gehringer/
LOCATION:Fergie’s Pub\, 1214 Sansom Street\, Philadelphia\, PA\, United States
CATEGORIES:Poetry Events
ATTACH;FMTTYPE=image/png:https://moonstoneartscenter.com/wp-content/uploads/2024/03/april-10-2024-1.png
END:VEVENT
BEGIN:VEVENT
DTSTART;TZID=America/New_York:20240417T190000
DTEND;TZID=America/New_York:20240417T190000
DTSTAMP:20260425T120413
CREATED:20240321T170426Z
LAST-MODIFIED:20240326T154109Z
UID:19377-1713380400-1713380400@moonstoneartscenter.com
SUMMARY:Live Poetry: Matt Lake\, Jon Lawrence\, Hannah McDonald
DESCRIPTION:Join us for Live Poetry at Fergie’s Pub and on Zoom! \nMatt Lake is frankly baffled\, he began writing and editing books about folklore\, monsters\, and dark history–including his best-known book Weird Pennsylvania. Jon Lawrence poetry and reviews have been published in Newfound\, American Writers Review\, The Bangalore Review\, and others. Hannah McDonald is a writer\, poet\, geek\, and generally funny queer woman. Her writing has appeared in Apiary\, The Legendary\, and Dreamstreets. Hannah writes fan-fiction\, if you’re into that sort of thing. \nSean Hanrahan\, Host – Open Reading Follows  \nRegister for Zoom
URL:https://moonstoneartscenter.com/event/live-poetry-matt-lake-jon-lawrence-hannah-mcdonald/
LOCATION:Fergie’s Pub\, 1214 Sansom Street\, Philadelphia\, PA\, United States
CATEGORIES:Poetry Events
ATTACH;FMTTYPE=image/png:https://moonstoneartscenter.com/wp-content/uploads/2024/03/april-17-2024.png
END:VEVENT
BEGIN:VEVENT
DTSTART;TZID=America/New_York:20240421T140000
DTEND;TZID=America/New_York:20240421T170000
DTSTAMP:20260425T120413
CREATED:20240321T170706Z
LAST-MODIFIED:20240416T164049Z
UID:19379-1713708000-1713718800@moonstoneartscenter.com
SUMMARY:Virtual Poetry: International Haiku Day
DESCRIPTION:International Haiku Poetry Day (April 17) was started in 2007 and later taken on by The Haiku Foundation in celebration of National Poetry Month. \nAccording to The Haiku Foundation\, the haiku is an ancient and undefinable-in-English form of Japanese poetry. At its most basic\, it is three lines\, the first with five syllables\, the second with seven and the third with five. Write us a Haiku. \n“Haiku are short imagistic poems about things that make the reader feel connected to nature.” \n— William J. Higginson (1938-2008)\, in his essay “Guidelines for Writing Haiku in English.” \nRegister for Zoom
URL:https://moonstoneartscenter.com/event/virtual-poetry-international-haiku-day/
LOCATION:PA
CATEGORIES:Poetry Events
ATTACH;FMTTYPE=image/png:https://moonstoneartscenter.com/wp-content/uploads/2020/08/Virtual-Poetry-haiku-day.png
END:VEVENT
BEGIN:VEVENT
DTSTART;TZID=America/New_York:20240424T190000
DTEND;TZID=America/New_York:20240424T190000
DTSTAMP:20260425T120413
CREATED:20240321T171002Z
LAST-MODIFIED:20240418T141525Z
UID:19381-1713985200-1713985200@moonstoneartscenter.com
SUMMARY:Live Poetry: Warren C. Longmire\, Kirwya Sutherland
DESCRIPTION:Join us for Live Poetry at Fergie’s Pub and on Zoom! \nWarren C. Longmire\, author of Bird/Diz\,  is an uncle\, writer\, performer and educator from the bad part of North Philadelphia. He is the host of House Poet: A Spoken Word Dance Party and mix_lit. Kirwyn Sutherland makes poems centering the black experience in America\, whose work has been published in American Poetry Review\, APIARY Magazine\, FOLDER\, The Wanderer and elsewhere. \nRegister for Zoom
URL:https://moonstoneartscenter.com/event/live-poetry-warren-c-longmire-kirwya-sutherland/
LOCATION:PA
CATEGORIES:Poetry Events
ATTACH;FMTTYPE=image/png:https://moonstoneartscenter.com/wp-content/uploads/2020/08/april-24-2024-1.png
END:VEVENT
BEGIN:VEVENT
DTSTART;TZID=America/New_York:20240430T173000
DTEND;TZID=America/New_York:20240430T173000
DTSTAMP:20260425T120413
CREATED:20240321T171500Z
LAST-MODIFIED:20240326T154343Z
UID:19383-1714498200-1714498200@moonstoneartscenter.com
SUMMARY:Live Poetry: Save Chinatown Anthology Reading
DESCRIPTION:Join us for Live Poetry at Independence Library and on Zoom! \nFor 150 years\, Philadelphia’s Chinatown has been the cultural heart of Philly’s Asian American and Pacific Islander communities\, and our community is worth fighting for. Chinatown has been the place where we share community\, culture\, and language. It is where generations of immigrants have found home. It is where folks who don’t speak English can easily navigate and find community\, and at a time of rising anti-Asian hate\, Chinatown is where we are safe. Chinatown is one of the few remaining communities of color and low-income communities in Center City\, and one of few authentic Chinatowns left in the country. The Save Chinatown Coalition includes: Pennsylvania United Chinese Coalition\, Philadelphia Chinatown Dragon Boat Team\, Asian Americans United\, Folk Arts-Cultural Treasures Charter School\, Chinese Restaurant Association of Greater Philadelphia\, Concerned Citizens of Chinatown Association\, Philadelphia Suns\, and Asian Arts Initiative. Join us as people respond in poetry to the fight to preserve neighborhoods\, preserve culture\, and against displacement or gentrification \nRegister for Zoom
URL:https://moonstoneartscenter.com/event/live-poetry-save-chinatown-anthology-reading/
LOCATION:Independence Library\, 18 S. 7th Street\, Philadelphia\, PA\, 19106\, United States
ATTACH;FMTTYPE=image/png:https://moonstoneartscenter.com/wp-content/uploads/2024/03/save-chinatown-1.png
END:VEVENT
BEGIN:VEVENT
DTSTART;TZID=America/New_York:20240430T190000
DTEND;TZID=America/New_York:20240430T190000
DTSTAMP:20260425T120413
CREATED:20240416T155205Z
LAST-MODIFIED:20240416T155205Z
UID:19465-1714503600-1714503600@moonstoneartscenter.com
SUMMARY:Virtual Poetry: 2024 Chapbook Reading Contest
DESCRIPTION:Join us for Virtual Poetry on Zoom! \n  \nGuy D’Annolfo\, winner\, poems have been published by Mantis (2024)\, Schuylkill Valley Journal (2023)\, Paperbark (2023)\, and Chestnut Review (2022). When not at work\, or kindling a love of Natural History with his son\, or accidentally disrupting peace in a Satipaṭṭhāna class\, he’s likely to be found reading and writing. \nSheleen McElhinney\, runner-up\, is a poet\, baker\, robot maker living in Bucks County\, Pennsylvania\, with her family. Her work has appeared in Whiskey Island Magazine and Dogzplot. Her debut book\, Every Little Vanishing\, will be released this October with Write Bloody Publishing. \nFinalists \nCathleen Cohen was the 2019 Poet Laureate of Montgomery County\, PA. A painter and teacher\, she founded the We the Poets program at ArtWell\, an arts education non-profit in Philadelphia. Cathleen holds a PhD in Special Education has led various workshops and classes on poetry\, art and literacy. Her writing appears in journals\, anthologies and three collections of poetry. Cathleen received the Interfaith Relations Award  and the Public Service Award . \nJohn DiMenna was released from federal prison in May 2020. Since then\, he has completed a collection of prose poems titled A DIFFERENT KIND OF HELL\, a hybrid form of memoir IN SEARCH OF MYSELF\, and is currently writing a long-form memoir titled WHITE COLLAR ELEGY. Selections from the above have been published in several literary journals. He resides on the east coast of Florida with his wife of fifty-two years and writes full-time. \nTyler Dunston is a poet\, visual artist\, and PhD candidate at the University of Michigan studying literature. He received his MFA in poetry from Boston University\, and his poems have appeared or are forthcoming in Narrative\, Nimrod International\, Raleigh Review\, and elsewhere. \nAlexandra McIntosh\, author of Bowlfuls of Blue\, lives and writes in Kentucky\, her favorite place on Earth. Her writing explores memory\, both personal and communal\, and its connection to the natural world. In August of 2019\, she received her MFA in Creative Writing from Miami University as well as her MA in English from Northern Kentucky University. She is currently teaching college English and working on her next book: a memoir about family stories and the mental landscapes they inhabit. \nLynn Levin\, Judge and Host\, is a poet and writer\, author of nine books\, teaches writing and literature at Drexel University and lives in Bucks County\, Pennsylvania. \n  \nRegister for Zoom!
URL:https://moonstoneartscenter.com/event/virtual-poetry-2024-chapbook-reading-contest/
LOCATION:PA
ATTACH;FMTTYPE=image/png:https://moonstoneartscenter.com/wp-content/uploads/2020/08/2024-chapbook-contest-reading-1.png
END:VEVENT
END:VCALENDAR