BEGIN:VCALENDAR
VERSION:2.0
PRODID:-//Moonstone Arts Center - ECPv6.15.20//NONSGML v1.0//EN
CALSCALE:GREGORIAN
METHOD:PUBLISH
X-WR-CALNAME:Moonstone Arts Center
X-ORIGINAL-URL:https://moonstoneartscenter.com
X-WR-CALDESC:Events for Moonstone Arts Center
REFRESH-INTERVAL;VALUE=DURATION:PT1H
X-Robots-Tag:noindex
X-PUBLISHED-TTL:PT1H
BEGIN:VTIMEZONE
TZID:America/New_York
BEGIN:DAYLIGHT
TZOFFSETFROM:-0500
TZOFFSETTO:-0400
TZNAME:EDT
DTSTART:20240310T070000
END:DAYLIGHT
BEGIN:STANDARD
TZOFFSETFROM:-0400
TZOFFSETTO:-0500
TZNAME:EST
DTSTART:20241103T060000
END:STANDARD
BEGIN:DAYLIGHT
TZOFFSETFROM:-0500
TZOFFSETTO:-0400
TZNAME:EDT
DTSTART:20250309T070000
END:DAYLIGHT
BEGIN:STANDARD
TZOFFSETFROM:-0400
TZOFFSETTO:-0500
TZNAME:EST
DTSTART:20251102T060000
END:STANDARD
BEGIN:DAYLIGHT
TZOFFSETFROM:-0500
TZOFFSETTO:-0400
TZNAME:EDT
DTSTART:20260308T070000
END:DAYLIGHT
BEGIN:STANDARD
TZOFFSETFROM:-0400
TZOFFSETTO:-0500
TZNAME:EST
DTSTART:20261101T060000
END:STANDARD
END:VTIMEZONE
BEGIN:VEVENT
DTSTART;TZID=America/New_York:20250903T190000
DTEND;TZID=America/New_York:20250903T210000
DTSTAMP:20260424T024438
CREATED:20250818T001741Z
LAST-MODIFIED:20250818T001741Z
UID:20585-1756926000-1756933200@moonstoneartscenter.com
SUMMARY:Live Poetry: W. D. Ehrhart\, Nathalie Anderson\, and Eileen M. D'Angelo
DESCRIPTION:Wednesday September 3\, 2025  7pm- LIVE \nLive at Fergie’s Pub\, 1214 Sansom Street \nBook Launch of  Smart Fish Don’t Bite  by W. D. Ehrhart ($22 – Moonstone Press) \nW. D. Ehrhart\, author of Smart Fish Don’t Bite\, is a Marine Corps veteran of both the Vietnam War and Vietnam Veterans Against the War. As the poems in this most recent collection demonstrate\, he is a writer who fought in Vietnam\, not a Vietnam writer. \nNathalie Anderson is the author of 5 books of poetry and manages the list-serv Lit-Philly that informs about 500 members about literary events in the Philadelphia area. She has recently retired from Swarthmore College\, where she taught for 39 years\, and served as Director of the Program in Creative Writing. \nEileen M. D’Angelo\, author of several books\, is Executive Director of Mad Poets Society\, coordinated over 2000 special events in the tri-state area\, twice been nominated for a PA Governor’s Award in the Arts and Pushcart Prize\, and was six-term President of the Board of the Philadelphia Writers Conference. \nAaren Perry Host – Open Reading Follows
URL:https://moonstoneartscenter.com/event/live-poetry-w-d-ehrhart-nathalie-anderson-and-eileen-m-dangelo/
LOCATION:Fergie’s Pub\, 1214 Sansom Street\, Philadelphia\, PA\, United States
CATEGORIES:Poetry Events
ATTACH;FMTTYPE=image/jpeg:https://moonstoneartscenter.com/wp-content/uploads/2025/08/Fergies-93_Square.jpg
END:VEVENT
BEGIN:VEVENT
DTSTART;TZID=America/New_York:20250909T183000
DTEND;TZID=America/New_York:20250909T203000
DTSTAMP:20260424T024438
CREATED:20250818T002123Z
LAST-MODIFIED:20250818T002328Z
UID:20588-1757442600-1757449800@moonstoneartscenter.com
SUMMARY:Philly Loves Poetry Interview and Reading Series: Alicia Askenase
DESCRIPTION:Tuesday September 9\, 2025 – 6:30pm – Live Broadcast \nCan be viewed on the Phillycam website Or Cable 66/966HD/967 \nor Verizon FIOS\, 29/30 In Philadelphia. \nPhilly Loves Poetry Interview and Readings Series \nAlicia Askenase is the author of several books\, was a founding co-editor of the literary journal 6ix and director of the Walt Whitman Art Center Literary programs\, and taught English as a Second Language in Puerto Rico\, Spain\, New York\, and finally\, Philadelphia. Her poetry has appeared in several anthologies: New Works by Philadelphia Poets\, and Poems for the Writing: Prompts for Poets\, and lit journals\, among them\, Chain\, The World\, Feminist Studies\, The Manhattanville Review\, Paterson Literary Review\, and The Painted Bride Quarterly. \nCharles S. Carr\, Host
URL:https://moonstoneartscenter.com/event/20588/
LOCATION:virtual
CATEGORIES:Poetry Events
ATTACH;FMTTYPE=image/jpeg:https://moonstoneartscenter.com/wp-content/uploads/2025/08/Alicia-Askenase_Square.jpg
END:VEVENT
BEGIN:VEVENT
DTSTART;TZID=America/New_York:20250910T190000
DTEND;TZID=America/New_York:20250910T210000
DTSTAMP:20260424T024438
CREATED:20250818T002619Z
LAST-MODIFIED:20250818T002619Z
UID:20594-1757530800-1757538000@moonstoneartscenter.com
SUMMARY:Live Poetry: Mac Chandler\, Tim Lynch\, and Amy Saul-Zerby
DESCRIPTION:Wednesday September 10\, 2025 – 7pm- LIVE \nLive at Fergie’s Pub\, 1214 Sansom Street \nMac Chandler is a writer from West Philly who has been published in some places and not in others\, host quarterly shows for Moonstone Arts\, and is author of There Is A Thing Haunting Me I Could Grow To Love.  \nTim Lynch was awarded a 2025 Individual Artist Fellowship by Delaware Division of the Arts\, poems appear in Only Poems Daily\, Gather\, and Villain Era\, and his first screenplay earned semifinalist in the ScreenCraft Horror Competition. \nAmy Saul-Zerby is author of Paper Flowers Imaginary Birds\, Deep Camouflage and Choose Your Own Beginning. She edits Voicemail Poems and her poems have appeared in The Rumpus\, The Chicago Review of Books\, American Poetry Review\, and elsewhere. \nSean Lynch Host – Open Reading Follows
URL:https://moonstoneartscenter.com/event/live-poetry-mac-chandler-tim-lynch-and-amy-saul-zerby/
LOCATION:Fergie’s Pub\, 1214 Sansom Street\, Philadelphia\, PA\, United States
CATEGORIES:Poetry Events
ATTACH;FMTTYPE=image/jpeg:https://moonstoneartscenter.com/wp-content/uploads/2025/08/Fergies-Pub-9-10_Square.jpg
END:VEVENT
BEGIN:VEVENT
DTSTART;TZID=America/New_York:20250928T170000
DTEND;TZID=America/New_York:20250928T170000
DTSTAMP:20260424T024438
CREATED:20250921T145407Z
LAST-MODIFIED:20250921T145407Z
UID:20630-1759078800-1759078800@moonstoneartscenter.com
SUMMARY:Live Poetry: Camille Llawella Ralphs\, Ernest Hilbert
DESCRIPTION:Sunday September 28\, 2025 – 5pmEDT – LIVE \nFergie’s Pub\, 1214 Sansom Street \nCamille Llawella Ralphs is an English poet\, critic and editor. Ralphs’ first collection of poems After You Were\, I Am was a book of the year in The Telegraph and The Guardian\, and was widely reviewed elsewhere.Since 2020\, Ralphs has been poetry editor at The Times Literary Supplement. She is the first woman to hold this role. \nErnest Hilbert is the author of the poetry collections Sixty Sonnets\, All of You on the Good Earth\, Caligulan—selected as winner of the 2017 Poets’ Prize—Last One Out\, and Storm Swimmer\, winner of the 2022 Vassar Miller Prize. \nHost – Open Reading Follows
URL:https://moonstoneartscenter.com/event/live-poetry-camille-llawella-ralphs-ernest-hilbert/
LOCATION:Fergie’s Pub\, 1214 Sansom Street\, Philadelphia\, PA\, United States
CATEGORIES:Poetry Events
ATTACH;FMTTYPE=image/png:https://moonstoneartscenter.com/wp-content/uploads/2025/09/Orange-Bold-Closed-Flyer.png
END:VEVENT
END:VCALENDAR