BEGIN:VCALENDAR
VERSION:2.0
PRODID:-//Moonstone Arts Center - ECPv6.15.20//NONSGML v1.0//EN
CALSCALE:GREGORIAN
METHOD:PUBLISH
X-WR-CALNAME:Moonstone Arts Center
X-ORIGINAL-URL:https://moonstoneartscenter.com
X-WR-CALDESC:Events for Moonstone Arts Center
REFRESH-INTERVAL;VALUE=DURATION:PT1H
X-Robots-Tag:noindex
X-PUBLISHED-TTL:PT1H
BEGIN:VTIMEZONE
TZID:America/New_York
BEGIN:DAYLIGHT
TZOFFSETFROM:-0500
TZOFFSETTO:-0400
TZNAME:EDT
DTSTART:20240310T070000
END:DAYLIGHT
BEGIN:STANDARD
TZOFFSETFROM:-0400
TZOFFSETTO:-0500
TZNAME:EST
DTSTART:20241103T060000
END:STANDARD
BEGIN:DAYLIGHT
TZOFFSETFROM:-0500
TZOFFSETTO:-0400
TZNAME:EDT
DTSTART:20250309T070000
END:DAYLIGHT
BEGIN:STANDARD
TZOFFSETFROM:-0400
TZOFFSETTO:-0500
TZNAME:EST
DTSTART:20251102T060000
END:STANDARD
BEGIN:DAYLIGHT
TZOFFSETFROM:-0500
TZOFFSETTO:-0400
TZNAME:EDT
DTSTART:20260308T070000
END:DAYLIGHT
BEGIN:STANDARD
TZOFFSETFROM:-0400
TZOFFSETTO:-0500
TZNAME:EST
DTSTART:20261101T060000
END:STANDARD
END:VTIMEZONE
BEGIN:VEVENT
DTSTART;TZID=America/New_York:20251102T140000
DTEND;TZID=America/New_York:20251102T140000
DTSTAMP:20260423T233908
CREATED:20251017T162753Z
LAST-MODIFIED:20251017T181024Z
UID:20718-1762092000-1762092000@moonstoneartscenter.com
SUMMARY:Remembering Ezra Pound - Sunday November 2nd - 2pm - Virtual
DESCRIPTION:Pound was an American poet and critic\, a major figure in the early modernist poetry movement\, and a collaborator in Fascist Italy during World War II. His works include Ripostes (1912)\, Hugh Selwyn Mauberley (1920)\, and his 800-page epic poem The Cantos (c. 1917–1962). \nPound’s contribution to poetry began in the early 20th century with developing Imagism\, a movement stressing precision and economy of language. Working in London as a foreign editor of several American literary magazines\, he helped discover and shape the work of contemporaries such as H. D.\, Robert Frost\, T. S. Eliot\, Ernest Hemingway\, and James Joyce. Hemingway wrote in 1932 that\, for poets born in the late 19th or early 20th century\, not to be influenced by Pound would be “like passing through a great blizzard and not feeling its cold”. \nPound blamed the war on finance capitalism\, he moved to Italy in 1924\, embraced Mussolini’s fascism\, and expressed support for Hitler. Ruled mentally unfit to stand trial\, Pound was incarcerated for over 12 years at St. Elizabeths psychiatric hospital in Washington\, D.C.\, whose doctors viewed Pound as a narcissist and a psychopath\, but otherwise completely sane.\nWhile in custody in Italy\, Pound began work on sections of The Cantos\, which were published as The Pisan Cantos (1948)\, for which he was awarded the Bollingen Prize for Poetry in 1949 by the Library of Congress\, causing enormous controversy. Reflections on Ezra Pound.
URL:https://moonstoneartscenter.com/event/remembering-ezra-pound-sunday-november-2nd-virtual/
LOCATION:Virtual
CATEGORIES:Poetry Events
ATTACH;FMTTYPE=image/png:https://moonstoneartscenter.com/wp-content/uploads/2025/10/Remembering-3.png
END:VEVENT
END:VCALENDAR