BEGIN:VCALENDAR
VERSION:2.0
PRODID:-//Moonstone Arts Center - ECPv6.15.20//NONSGML v1.0//EN
CALSCALE:GREGORIAN
METHOD:PUBLISH
X-ORIGINAL-URL:https://moonstoneartscenter.com
X-WR-CALDESC:Events for Moonstone Arts Center
REFRESH-INTERVAL;VALUE=DURATION:PT1H
X-Robots-Tag:noindex
X-PUBLISHED-TTL:PT1H
BEGIN:VTIMEZONE
TZID:America/New_York
BEGIN:DAYLIGHT
TZOFFSETFROM:-0500
TZOFFSETTO:-0400
TZNAME:EDT
DTSTART:20230312T070000
END:DAYLIGHT
BEGIN:STANDARD
TZOFFSETFROM:-0400
TZOFFSETTO:-0500
TZNAME:EST
DTSTART:20231105T060000
END:STANDARD
BEGIN:DAYLIGHT
TZOFFSETFROM:-0500
TZOFFSETTO:-0400
TZNAME:EDT
DTSTART:20240310T070000
END:DAYLIGHT
BEGIN:STANDARD
TZOFFSETFROM:-0400
TZOFFSETTO:-0500
TZNAME:EST
DTSTART:20241103T060000
END:STANDARD
BEGIN:DAYLIGHT
TZOFFSETFROM:-0500
TZOFFSETTO:-0400
TZNAME:EDT
DTSTART:20250309T070000
END:DAYLIGHT
BEGIN:STANDARD
TZOFFSETFROM:-0400
TZOFFSETTO:-0500
TZNAME:EST
DTSTART:20251102T060000
END:STANDARD
END:VTIMEZONE
BEGIN:VEVENT
DTSTART;TZID=America/New_York:20240109T183000
DTEND;TZID=America/New_York:20240109T193000
DTSTAMP:20260426T001119
CREATED:20231216T184547Z
LAST-MODIFIED:20231221T203611Z
UID:19091-1704825000-1704828600@moonstoneartscenter.com
SUMMARY:Moonstone Poetry @ PhillyCAM: Autumn McClintock
DESCRIPTION:Moonstone Poetry @ PhillyCAM: Autumn McClintock\nTuesday January 9\, 2023 @ 6:30pm  VIRTUAL \nWatch for free on the PhillyCAM website \nOr Cable 66/966HD/967 or Verizon FIOS\, 29/30 in Philadelphia. \n \nAutumn McClintock is a freelance writer and editor living in Germantown. Her newest chapbook\, Dirt Bird\, was recently published by Alexandria Quarterly Press\, and poems of hers have appeared in The Account\, Cimarron Review\, Denver Quarterly\, and The Georgia Review\, among others. She is Poetry Editor of Doubleback Review. Find her online at autumnmcclintock.com.  \n  \nCharles S. Carr\, Host
URL:https://moonstoneartscenter.com/event/moonstone-poetry-phillycam-autumn-mcclintock/
LOCATION:PA
CATEGORIES:Poetry
ATTACH;FMTTYPE=image/png:https://moonstoneartscenter.com/wp-content/uploads/2023/12/January-9-2024-1.png
END:VEVENT
END:VCALENDAR