BEGIN:VCALENDAR
VERSION:2.0
PRODID:-//Moonstone Arts Center - ECPv6.15.20//NONSGML v1.0//EN
CALSCALE:GREGORIAN
METHOD:PUBLISH
X-WR-CALNAME:Moonstone Arts Center
X-ORIGINAL-URL:https://moonstoneartscenter.com
X-WR-CALDESC:Events for Moonstone Arts Center
REFRESH-INTERVAL;VALUE=DURATION:PT1H
X-Robots-Tag:noindex
X-PUBLISHED-TTL:PT1H
BEGIN:VTIMEZONE
TZID:America/New_York
BEGIN:DAYLIGHT
TZOFFSETFROM:-0500
TZOFFSETTO:-0400
TZNAME:EDT
DTSTART:20230312T070000
END:DAYLIGHT
BEGIN:STANDARD
TZOFFSETFROM:-0400
TZOFFSETTO:-0500
TZNAME:EST
DTSTART:20231105T060000
END:STANDARD
BEGIN:DAYLIGHT
TZOFFSETFROM:-0500
TZOFFSETTO:-0400
TZNAME:EDT
DTSTART:20240310T070000
END:DAYLIGHT
BEGIN:STANDARD
TZOFFSETFROM:-0400
TZOFFSETTO:-0500
TZNAME:EST
DTSTART:20241103T060000
END:STANDARD
BEGIN:DAYLIGHT
TZOFFSETFROM:-0500
TZOFFSETTO:-0400
TZNAME:EDT
DTSTART:20250309T070000
END:DAYLIGHT
BEGIN:STANDARD
TZOFFSETFROM:-0400
TZOFFSETTO:-0500
TZNAME:EST
DTSTART:20251102T060000
END:STANDARD
END:VTIMEZONE
BEGIN:VEVENT
DTSTART;TZID=America/New_York:20240208T190000
DTEND;TZID=America/New_York:20240208T210000
DTSTAMP:20260426T000818
CREATED:20240130T185220Z
LAST-MODIFIED:20240201T192541Z
UID:19175-1707418800-1707426000@moonstoneartscenter.com
SUMMARY:Virtual Poetry: David Eberhardt\, Stephen Jones\, Marjorie Moorhead\, Daniel Williams\, & Samantha Wright
DESCRIPTION:Thursday February 8\, 2024 – 7pm -Virtual \nZoom Link: https://us02web.zoom.us/meeting/register/tZYrce-spj4pE9Jq0ZszDJHI7vYgFYFf19BY \nDavid Eberhardt\, author of Melange\, The Tree Calendar\, Blue Running Lights\, and Poems from the Website\, was born in 1941. He retired in 2010 from 33 years of work in the criminal INjustice system at the Baltimore City jail. With Father Phil Berrigan and two others he poured blood on draft files in 1967 to protest the Viet Nam war. For that action\, he spent 21 months in Lewisburg Federal Prison. He has completed a peace movement memoir\, For All the Saints: A Protest Primer. In 2020 he won the Enoch Pratt Library/ Little Patuxent Review prize for poetry. \nStephen Jones has lived in Detroit for more than forty years\, has worked as a journalist\, high school English teacher and university history instructor. He is a student of Zen Buddhism\, which sparked his interest in such ancient Chinese poets as Han Shan\, Su Tung’p’o\, Tu Fu\, Li Po\, and Po Chu-i. Jones’ poems have appeared in Abandon Automobile\, an anthology of Detroit poets; Maxis Review; Poet in the House; Buddhist Poetry Review; Third Wednesday\, and Temenos. \nMarjorie Moorhead lives and writes at the border of NH/VT. She is author of poetry collections Every Small Breeze\, What I Ask\, and chapbooks Survival: Trees\, Tides\, Song  and Survival Part 2: Trees\, Birds\, Ocean\, Bees.  Marjorie’s work appears in journals including Amethyst Review\, Tiny Seed Literary\, Moist Poetry Journal\, Bloodroot Literary\, Sheila-Na-Gig\, Porter House Review\, Poeming Pigeon\, Verse-Virtual\, What Rough Beast\, A River Sings\, The Poet’s Touchstone\, and others. Her poems are included in anthologies benefitting environmental\, women’s\, Covid first responder\, and refugee aid organizations. She has a poem in The Wonder of Small Things (James Crews\, ed. 2023). Marjorie’s local poetry group is 4th Friday Poets. \nDaniel Williams has published in many journals and anthologies\, he is a long-standing member of Poets’ West\, California Federation of Chaparral Poets\, Poets & Writers\, and the Ina Coolbrith Circle and has poems in Yosemite National Park’s time capsule\, a haiku engraved on MAVEN\, the Mar’s orbiter\, and has been nominated for Pushcart Prize in poetry. His California inspired poems have been featured in Ina Coolbrith Poetry Circle Anthologies\, Gathering 14 and Gathering 15. \nSamantha Wright\, author of Edges Holding Edges and Postcards from the West\, lives in the Pacific Northwest. Her poems have appeared in Beyond Words\, Prometheus Dreaming\, Pontoon Poetry\, Minerva Arts\, Welter\, Cathexis Northwest\, among others. Her debut chapbook\, Edges Holding Edges\, was published by Moonstone Arts in 2022.  She currently divides her time between writing and teaching yoga. \n  \nOpen Reading Follows
URL:https://moonstoneartscenter.com/event/virtual-poetry-david-eberhardt-stephen-jones-marjorie-moorhead-daniel-williams-samantha-wright/
LOCATION:Virtual
CATEGORIES:Poetry
ATTACH;FMTTYPE=image/png:https://moonstoneartscenter.com/wp-content/uploads/2024/01/feb-8.png-canva-update.png
END:VEVENT
END:VCALENDAR