BEGIN:VCALENDAR
VERSION:2.0
PRODID:-//Moonstone Arts Center - ECPv6.15.20//NONSGML v1.0//EN
CALSCALE:GREGORIAN
METHOD:PUBLISH
X-WR-CALNAME:Moonstone Arts Center
X-ORIGINAL-URL:https://moonstoneartscenter.com
X-WR-CALDESC:Events for Moonstone Arts Center
REFRESH-INTERVAL;VALUE=DURATION:PT1H
X-Robots-Tag:noindex
X-PUBLISHED-TTL:PT1H
BEGIN:VTIMEZONE
TZID:America/New_York
BEGIN:DAYLIGHT
TZOFFSETFROM:-0500
TZOFFSETTO:-0400
TZNAME:EDT
DTSTART:20230312T070000
END:DAYLIGHT
BEGIN:STANDARD
TZOFFSETFROM:-0400
TZOFFSETTO:-0500
TZNAME:EST
DTSTART:20231105T060000
END:STANDARD
BEGIN:DAYLIGHT
TZOFFSETFROM:-0500
TZOFFSETTO:-0400
TZNAME:EDT
DTSTART:20240310T070000
END:DAYLIGHT
BEGIN:STANDARD
TZOFFSETFROM:-0400
TZOFFSETTO:-0500
TZNAME:EST
DTSTART:20241103T060000
END:STANDARD
BEGIN:DAYLIGHT
TZOFFSETFROM:-0500
TZOFFSETTO:-0400
TZNAME:EDT
DTSTART:20250309T070000
END:DAYLIGHT
BEGIN:STANDARD
TZOFFSETFROM:-0400
TZOFFSETTO:-0500
TZNAME:EST
DTSTART:20251102T060000
END:STANDARD
END:VTIMEZONE
BEGIN:VEVENT
DTSTART;TZID=America/New_York:20240217T190000
DTEND;TZID=America/New_York:20240217T210000
DTSTAMP:20260426T000826
CREATED:20240206T183733Z
LAST-MODIFIED:20240211T195846Z
UID:19196-1708196400-1708203600@moonstoneartscenter.com
SUMMARY:Virtual Poetry - Fatal Force: Poetic Justice
DESCRIPTION:Fatal Force: Poetic Justice\nSaturday February 17\, 2024 – 7pm EST  Virtual \nJoin us on Zoom (Registration Required): https://us02web.zoom.us/meeting/register/tZIsduGuqTgjEtIm1XVEz94i3LTtCLb8iG5D \nAs of December 4\, 2023\, 1085 people have been killed by police in the United States (Mapping Police Violence 2023). \nPolice officer\, Mark Dial shot and killed Eddie Irizarry on August 14\, 2023. On August 15th\, Philadelphia police changed their story\, stating that Irizarry was actually in the car when he was shot six times. Philadelphia Police Commissioner Danielle Outlaw stated that officers’ body-worn camera footage “made it very clear that what we initially reported was not actually what happened.” Read more about the details and legal proceedings here: \n(The Killing of Eddie Irizarry). \nMartín Espada recently wrote a poem entitled\, “Officer Mark Dial\, Who Shot Eddie Irizarry\, Will Be Fired for Insubordination” to elegize the innocent young man whose alleged murder this past August is an outrage. \nFatal Force : Poetic Justice contributors\, featuring Martín Espada\, will read their work virtually on February 17th to honor poet/activist\, Julia de Burgos’ birthday. She was the foremother for the Nuyorican Poetry Movement in New York who advocated for anti-imperialism and social justice. Fatal Force: Poetic Justice commemorates her ideals. \nPresented by Taller Puertorriqueño\, Casa de Duende\, and Moonstone \n \n  \n\n\n\n\n\n\n\n\n\n\n\n\nAlthough not everyone will be reading\, we have poems by these poets\n\n\n\n\n\n\n\n\n\n\n\n\n\n\n\n\n\n\n\nMary Anne Abdo\nSonia Aggarwal\nAustin Alexis\nStar Anderson\nNaomi Ayala\nDiane Bier\nSteve Bloom\nChristopher Butters\nCameron Carvalho\nRaheem Curry\nMartin Espada\nSteven Halpern\nZita Holbourne\nAce Howlen\nJane Ellen Ibur\nIrving Jones\nRon Kolm\nDonald Krieger\nMindy Kronenberg\nD Lang\nJeffrey lee\nKostya Malukhin\nAurora McKee\nSamuel Miranda\nDavid Mook\nDeeci Murphy\nJane Muschenetz\nMaureen Nolan\nGeorge Northrup\nTauwan Patterson\nAlex Phuong\nRescue Poetix\nSusana Praver-Perez\nDavid Radavich\nAlexis Raymond\nSultana Raza\nJanet Restino\nJoe Roarty\nJake Rogers\nMykyta Ryzhykh\nIndia Shank\nCalvin Shaw\nLarissa Shmailo\nMegha Sood\nRowan Tate\nAlyssa Velazquez\nEike Waltz\nBruce Whitacre\nMartin Wiley\nGlenn Wright\nSamantha Wright
URL:https://moonstoneartscenter.com/event/virtual-poetry-fatal-force-poetic-justice/
LOCATION:Virtual
CATEGORIES:Poetry
ATTACH;FMTTYPE=image/jpeg:https://moonstoneartscenter.com/wp-content/uploads/2024/02/feb17.jpg
END:VEVENT
END:VCALENDAR