BEGIN:VCALENDAR
VERSION:2.0
PRODID:-//Moonstone Arts Center - ECPv6.15.20//NONSGML v1.0//EN
CALSCALE:GREGORIAN
METHOD:PUBLISH
X-WR-CALNAME:Moonstone Arts Center
X-ORIGINAL-URL:https://moonstoneartscenter.com
X-WR-CALDESC:Events for Moonstone Arts Center
REFRESH-INTERVAL;VALUE=DURATION:PT1H
X-Robots-Tag:noindex
X-PUBLISHED-TTL:PT1H
BEGIN:VTIMEZONE
TZID:America/New_York
BEGIN:DAYLIGHT
TZOFFSETFROM:-0500
TZOFFSETTO:-0400
TZNAME:EDT
DTSTART:20230312T070000
END:DAYLIGHT
BEGIN:STANDARD
TZOFFSETFROM:-0400
TZOFFSETTO:-0500
TZNAME:EST
DTSTART:20231105T060000
END:STANDARD
BEGIN:DAYLIGHT
TZOFFSETFROM:-0500
TZOFFSETTO:-0400
TZNAME:EDT
DTSTART:20240310T070000
END:DAYLIGHT
BEGIN:STANDARD
TZOFFSETFROM:-0400
TZOFFSETTO:-0500
TZNAME:EST
DTSTART:20241103T060000
END:STANDARD
BEGIN:DAYLIGHT
TZOFFSETFROM:-0500
TZOFFSETTO:-0400
TZNAME:EDT
DTSTART:20250309T070000
END:DAYLIGHT
BEGIN:STANDARD
TZOFFSETFROM:-0400
TZOFFSETTO:-0500
TZNAME:EST
DTSTART:20251102T060000
END:STANDARD
END:VTIMEZONE
BEGIN:VEVENT
DTSTART;TZID=America/New_York:20240303T140000
DTEND;TZID=America/New_York:20240303T160000
DTSTAMP:20260425T205639
CREATED:20240220T155003Z
LAST-MODIFIED:20240303T145021Z
UID:19259-1709474400-1709481600@moonstoneartscenter.com
SUMMARY:Traitor/Patriot: Reflections on January 6th
DESCRIPTION:Sunday\, March 3\, 2024 \nVirtual -2pm EST\nJoin us on Zoom –  Use this link: \nhttps://us02web.zoom.us/meeting/register/tZUtcOmqrjIqHt38oY_EumWA2yjSHpfugrTn \nTraitor / Patriot: A Reflection on January 6\, 2021\nMoonstone is dedicated to communication. One of our missions is to create discourse by giving voice to poets\, especially on controversial issues. I received a poem from g e Reutter called Traitor (you can read the poem on our website) on the January 6 insurrection which made me realize that this was an issue we have not responded to yet. \nMore than 2\,000 rioters entered the Capitol building on January 6\, 2021\, many of whom vandalized and looted the building. Rioters assaulted Capitol Police officers and reporters and attempted to locate lawmakers to capture and harm. A gallows was erected west of the Capitol. Some rioters chanted “Hang Mike Pence” after he rejected false claims by Trump and others that the vice president could overturn the election results. Five people died\, more people were injured\, including 174 police officers. As of July 7\, 2022\, monetary damages caused by attackers exceeded $2.7 million. More than 1\,230 people have been charged over the course of three years\, with many trials still pending. Join us as poets reflect. \n 
URL:https://moonstoneartscenter.com/event/traitor-patriot-reflections-on-january-6th/
LOCATION:Virtual
CATEGORIES:Poetry
ATTACH;FMTTYPE=image/jpeg:https://moonstoneartscenter.com/wp-content/uploads/2024/02/TraitorPatriot-cover.jpg
END:VEVENT
END:VCALENDAR