BEGIN:VCALENDAR
VERSION:2.0
PRODID:-//Moonstone Arts Center - ECPv6.15.20//NONSGML v1.0//EN
CALSCALE:GREGORIAN
METHOD:PUBLISH
X-ORIGINAL-URL:https://moonstoneartscenter.com
X-WR-CALDESC:Events for Moonstone Arts Center
REFRESH-INTERVAL;VALUE=DURATION:PT1H
X-Robots-Tag:noindex
X-PUBLISHED-TTL:PT1H
BEGIN:VTIMEZONE
TZID:America/New_York
BEGIN:DAYLIGHT
TZOFFSETFROM:-0500
TZOFFSETTO:-0400
TZNAME:EDT
DTSTART:20230312T070000
END:DAYLIGHT
BEGIN:STANDARD
TZOFFSETFROM:-0400
TZOFFSETTO:-0500
TZNAME:EST
DTSTART:20231105T060000
END:STANDARD
BEGIN:DAYLIGHT
TZOFFSETFROM:-0500
TZOFFSETTO:-0400
TZNAME:EDT
DTSTART:20240310T070000
END:DAYLIGHT
BEGIN:STANDARD
TZOFFSETFROM:-0400
TZOFFSETTO:-0500
TZNAME:EST
DTSTART:20241103T060000
END:STANDARD
BEGIN:DAYLIGHT
TZOFFSETFROM:-0500
TZOFFSETTO:-0400
TZNAME:EDT
DTSTART:20250309T070000
END:DAYLIGHT
BEGIN:STANDARD
TZOFFSETFROM:-0400
TZOFFSETTO:-0500
TZNAME:EST
DTSTART:20251102T060000
END:STANDARD
END:VTIMEZONE
BEGIN:VEVENT
DTSTART;TZID=America/New_York:20240317T140000
DTEND;TZID=America/New_York:20240317T150000
DTSTAMP:20260425T191457
CREATED:20240229T180410Z
LAST-MODIFIED:20240229T180850Z
UID:19303-1710684000-1710687600@moonstoneartscenter.com
SUMMARY:Virtual Poetry: World Poetry Day
DESCRIPTION:Sunday March 17\, 2024\n2pm EST – VIRITUAL \nJoin us on Zoom: https://us02web.zoom.us/meeting/register/tZ0vdumppzwuHNYs4KmAVk04T1mXGlGaMbh5 \n“How do I love thee? Let me count the ways.” — Writer Elizabeth Barrett Browning dedicated this iconic poem to her husband Robert Browning but her famous sonnet could just as easily declare love for poetry itself. We can all do that on World Poetry Day\, on March 21. The United Nations Educational\, Scientific\, and Cultural Organization (UNESCO) founded this day in 1999. Poetry uses rhythms and imagery to elicit emotion and the imagination of the reader. Poetry can rhyme\, using what are called meters of long and short syllables. Some poetry\, written in what’s called ‘free verse\,’ doesn’t employ rhyme or meters. Poems are broken into stanzas\, which are like paragraphs\, and can be up to 12 lines long. We believe the first known poem appeared 4\,000 years ago in Babylon. Today\, countless types of poems are available to enjoy\, including haikus\, limericks\, sonnets\, and ballads.
URL:https://moonstoneartscenter.com/event/virtual-poetry-world-poetry-day/
LOCATION:Virtual
CATEGORIES:Poetry
ATTACH;FMTTYPE=image/jpeg:https://moonstoneartscenter.com/wp-content/uploads/2024/02/March-17.jpg
END:VEVENT
END:VCALENDAR