BEGIN:VCALENDAR
VERSION:2.0
PRODID:-//Moonstone Arts Center - ECPv6.15.20//NONSGML v1.0//EN
CALSCALE:GREGORIAN
METHOD:PUBLISH
X-WR-CALNAME:Moonstone Arts Center
X-ORIGINAL-URL:https://moonstoneartscenter.com
X-WR-CALDESC:Events for Moonstone Arts Center
REFRESH-INTERVAL;VALUE=DURATION:PT1H
X-Robots-Tag:noindex
X-PUBLISHED-TTL:PT1H
BEGIN:VTIMEZONE
TZID:America/New_York
BEGIN:DAYLIGHT
TZOFFSETFROM:-0500
TZOFFSETTO:-0400
TZNAME:EDT
DTSTART:20230312T070000
END:DAYLIGHT
BEGIN:STANDARD
TZOFFSETFROM:-0400
TZOFFSETTO:-0500
TZNAME:EST
DTSTART:20231105T060000
END:STANDARD
BEGIN:DAYLIGHT
TZOFFSETFROM:-0500
TZOFFSETTO:-0400
TZNAME:EDT
DTSTART:20240310T070000
END:DAYLIGHT
BEGIN:STANDARD
TZOFFSETFROM:-0400
TZOFFSETTO:-0500
TZNAME:EST
DTSTART:20241103T060000
END:STANDARD
BEGIN:DAYLIGHT
TZOFFSETFROM:-0500
TZOFFSETTO:-0400
TZNAME:EDT
DTSTART:20250309T070000
END:DAYLIGHT
BEGIN:STANDARD
TZOFFSETFROM:-0400
TZOFFSETTO:-0500
TZNAME:EST
DTSTART:20251102T060000
END:STANDARD
END:VTIMEZONE
BEGIN:VEVENT
DTSTART;TZID=America/New_York:20240424T190000
DTEND;TZID=America/New_York:20240424T190000
DTSTAMP:20260425T122122
CREATED:20240321T171002Z
LAST-MODIFIED:20240418T141525Z
UID:19381-1713985200-1713985200@moonstoneartscenter.com
SUMMARY:Live Poetry: Warren C. Longmire\, Kirwya Sutherland
DESCRIPTION:Join us for Live Poetry at Fergie’s Pub and on Zoom! \nWarren C. Longmire\, author of Bird/Diz\,  is an uncle\, writer\, performer and educator from the bad part of North Philadelphia. He is the host of House Poet: A Spoken Word Dance Party and mix_lit. Kirwyn Sutherland makes poems centering the black experience in America\, whose work has been published in American Poetry Review\, APIARY Magazine\, FOLDER\, The Wanderer and elsewhere. \nRegister for Zoom
URL:https://moonstoneartscenter.com/event/live-poetry-warren-c-longmire-kirwya-sutherland/
LOCATION:PA
CATEGORIES:Poetry Events
ATTACH;FMTTYPE=image/png:https://moonstoneartscenter.com/wp-content/uploads/2020/08/april-24-2024-1.png
END:VEVENT
END:VCALENDAR