BEGIN:VCALENDAR
VERSION:2.0
PRODID:-//Moonstone Arts Center - ECPv6.15.20//NONSGML v1.0//EN
CALSCALE:GREGORIAN
METHOD:PUBLISH
X-WR-CALNAME:Moonstone Arts Center
X-ORIGINAL-URL:https://moonstoneartscenter.com
X-WR-CALDESC:Events for Moonstone Arts Center
REFRESH-INTERVAL;VALUE=DURATION:PT1H
X-Robots-Tag:noindex
X-PUBLISHED-TTL:PT1H
BEGIN:VTIMEZONE
TZID:America/New_York
BEGIN:DAYLIGHT
TZOFFSETFROM:-0500
TZOFFSETTO:-0400
TZNAME:EDT
DTSTART:20230312T070000
END:DAYLIGHT
BEGIN:STANDARD
TZOFFSETFROM:-0400
TZOFFSETTO:-0500
TZNAME:EST
DTSTART:20231105T060000
END:STANDARD
BEGIN:DAYLIGHT
TZOFFSETFROM:-0500
TZOFFSETTO:-0400
TZNAME:EDT
DTSTART:20240310T070000
END:DAYLIGHT
BEGIN:STANDARD
TZOFFSETFROM:-0400
TZOFFSETTO:-0500
TZNAME:EST
DTSTART:20241103T060000
END:STANDARD
BEGIN:DAYLIGHT
TZOFFSETFROM:-0500
TZOFFSETTO:-0400
TZNAME:EDT
DTSTART:20250309T070000
END:DAYLIGHT
BEGIN:STANDARD
TZOFFSETFROM:-0400
TZOFFSETTO:-0500
TZNAME:EST
DTSTART:20251102T060000
END:STANDARD
END:VTIMEZONE
BEGIN:VEVENT
DTSTART;TZID=America/New_York:20240514T173000
DTEND;TZID=America/New_York:20240514T173000
DTSTAMP:20260425T102519
CREATED:20240430T152746Z
LAST-MODIFIED:20240430T171036Z
UID:19501-1715707800-1715707800@moonstoneartscenter.com
SUMMARY:Live Poetry - New Voices Spring 2024
DESCRIPTION:Live Poetry at Parkway Central Library and on Zoom \nNew Voices Spring 2024: Emerging Poets \nis a program designed for emerging poets under the age of 25. It aims to create a platform for younger poets by welcoming them into the larger Philadelphia poetry community and giving them the opportunity to share their work with a wider audience. \nJoin us live at the Central Library for emerging poet from Philadelphia \nZoom Link
URL:https://moonstoneartscenter.com/event/live-poetry-new-voices-spring-2024/
LOCATION:Parkway Central Library\, 1901 Vine St
CATEGORIES:Poetry Events
ATTACH;FMTTYPE=image/png:https://moonstoneartscenter.com/wp-content/uploads/2024/04/new-voices-spring-2024-may-14-1.png
END:VEVENT
END:VCALENDAR