BEGIN:VCALENDAR
VERSION:2.0
PRODID:-//Moonstone Arts Center - ECPv6.15.20//NONSGML v1.0//EN
CALSCALE:GREGORIAN
METHOD:PUBLISH
X-ORIGINAL-URL:https://moonstoneartscenter.com
X-WR-CALDESC:Events for Moonstone Arts Center
REFRESH-INTERVAL;VALUE=DURATION:PT1H
X-Robots-Tag:noindex
X-PUBLISHED-TTL:PT1H
BEGIN:VTIMEZONE
TZID:America/New_York
BEGIN:DAYLIGHT
TZOFFSETFROM:-0500
TZOFFSETTO:-0400
TZNAME:EDT
DTSTART:20230312T070000
END:DAYLIGHT
BEGIN:STANDARD
TZOFFSETFROM:-0400
TZOFFSETTO:-0500
TZNAME:EST
DTSTART:20231105T060000
END:STANDARD
BEGIN:DAYLIGHT
TZOFFSETFROM:-0500
TZOFFSETTO:-0400
TZNAME:EDT
DTSTART:20240310T070000
END:DAYLIGHT
BEGIN:STANDARD
TZOFFSETFROM:-0400
TZOFFSETTO:-0500
TZNAME:EST
DTSTART:20241103T060000
END:STANDARD
BEGIN:DAYLIGHT
TZOFFSETFROM:-0500
TZOFFSETTO:-0400
TZNAME:EDT
DTSTART:20250309T070000
END:DAYLIGHT
BEGIN:STANDARD
TZOFFSETFROM:-0400
TZOFFSETTO:-0500
TZNAME:EST
DTSTART:20251102T060000
END:STANDARD
END:VTIMEZONE
BEGIN:VEVENT
DTSTART;TZID=America/New_York:20240519T140000
DTEND;TZID=America/New_York:20240519T153000
DTSTAMP:20260425T121207
CREATED:20240518T141759Z
LAST-MODIFIED:20240518T141952Z
UID:19541-1716127200-1716132600@moonstoneartscenter.com
SUMMARY:Virtual Poetry - May Day 2024 Anthology
DESCRIPTION:Sunday May 19\, 2024 – 2pm EDT – VIRTUAL \nhttps://us02web.zoom.us/meeting/register/tZIvcOiqrTIuGtI4ZR23zt_f1C1FDbB5uk6U \nMay Day commemorating the historic struggles and gains made by workers and the labour movement\, observed in many countries on May 1. In 1889 an international federation of socialist groups and trade unions designated May 1 as a day in support of workers\, in commemoration of the Haymarket Riot in Chicago (1886). Five years later\, U.S. Pres. Grover Cleveland\, uneasy with the socialist origins of Workers’ Day\, signed legislation to make Labor Day—already held in some states on the first Monday of September—the official U.S. holiday in honour of workers. \nWe invited poets to reflect on the history of labor and the recent surges in the movement. You can purchase the anthology collection here. \nNot All Poets Will Be Reading – Open Reading Follows \nFeatured Poets \nMary Anne Abdo \nByron Beynon \nAJ Chilson \nCraig Czury \nJoan Donato \nSteven Halpern \nJane Ellen Ibur \nJones Irwin \nNathaniel Krenkel \nMharlyn Merriitt \nLeslie Perry \nJohn Potter \nAdam Rubin \nJennifer Schneider \nJulia Robinson Shimizu \nStephani Twidwell \nGail Wasserman \nKelley White
URL:https://moonstoneartscenter.com/event/virtual-poetry-may-day-2024-anthology/
LOCATION:virtual
CATEGORIES:Poetry,Poetry Events
ATTACH;FMTTYPE=image/png:https://moonstoneartscenter.com/wp-content/uploads/2024/05/MayDay2024_Event.png
END:VEVENT
END:VCALENDAR