BEGIN:VCALENDAR
VERSION:2.0
PRODID:-//Moonstone Arts Center - ECPv6.15.20//NONSGML v1.0//EN
CALSCALE:GREGORIAN
METHOD:PUBLISH
X-ORIGINAL-URL:https://moonstoneartscenter.com
X-WR-CALDESC:Events for Moonstone Arts Center
REFRESH-INTERVAL;VALUE=DURATION:PT1H
X-Robots-Tag:noindex
X-PUBLISHED-TTL:PT1H
BEGIN:VTIMEZONE
TZID:America/New_York
BEGIN:DAYLIGHT
TZOFFSETFROM:-0500
TZOFFSETTO:-0400
TZNAME:EDT
DTSTART:20230312T070000
END:DAYLIGHT
BEGIN:STANDARD
TZOFFSETFROM:-0400
TZOFFSETTO:-0500
TZNAME:EST
DTSTART:20231105T060000
END:STANDARD
BEGIN:DAYLIGHT
TZOFFSETFROM:-0500
TZOFFSETTO:-0400
TZNAME:EDT
DTSTART:20240310T070000
END:DAYLIGHT
BEGIN:STANDARD
TZOFFSETFROM:-0400
TZOFFSETTO:-0500
TZNAME:EST
DTSTART:20241103T060000
END:STANDARD
BEGIN:DAYLIGHT
TZOFFSETFROM:-0500
TZOFFSETTO:-0400
TZNAME:EDT
DTSTART:20250309T070000
END:DAYLIGHT
BEGIN:STANDARD
TZOFFSETFROM:-0400
TZOFFSETTO:-0500
TZNAME:EST
DTSTART:20251102T060000
END:STANDARD
END:VTIMEZONE
BEGIN:VEVENT
DTSTART;TZID=America/New_York:20240520T173000
DTEND;TZID=America/New_York:20240520T173000
DTSTAMP:20260425T102605
CREATED:20240430T155434Z
LAST-MODIFIED:20240512T182640Z
UID:19508-1716226200-1716226200@moonstoneartscenter.com
SUMMARY:Live Poetry - Pink Trees Press
DESCRIPTION:Live Poetry at Fergie’s Pub \nPink Trees Press began in 2012 in New York City\, publishing small batches of handmade\, hand-sewn books. In 2019\, Pink Trees Press started producing Origami Books. The simplicity and low cost of these books\, allowed Pink Trees Press to reach a larger audience. In 2020\, Pink Trees Press began producing mass-marketed books. The press continues to grow publishing memoirs and poetry collections. They are active in the poetry community curating readings across the nation. They are thrilled to read at Fergie’s today. \nWith: MADELINE ARTENBURG\, PAULINE FINDLAY\, PHILLIP GIAMBRI\, LINDA\, RON KOLM\, JANE LECROY\, AMY BARONE\, RANDI HOFFMAN\, and C.O. MOED \nZoom Link
URL:https://moonstoneartscenter.com/event/live-poetry-pink-trees-press/
LOCATION:Fergie’s Pub\, 1214 Sansom Street\, Philadelphia\, PA\, United States
ATTACH;FMTTYPE=image/png:https://moonstoneartscenter.com/wp-content/uploads/2020/08/may-20-1.png
END:VEVENT
END:VCALENDAR