BEGIN:VCALENDAR
VERSION:2.0
PRODID:-//Moonstone Arts Center - ECPv6.15.20//NONSGML v1.0//EN
CALSCALE:GREGORIAN
METHOD:PUBLISH
X-ORIGINAL-URL:https://moonstoneartscenter.com
X-WR-CALDESC:Events for Moonstone Arts Center
REFRESH-INTERVAL;VALUE=DURATION:PT1H
X-Robots-Tag:noindex
X-PUBLISHED-TTL:PT1H
BEGIN:VTIMEZONE
TZID:America/New_York
BEGIN:DAYLIGHT
TZOFFSETFROM:-0500
TZOFFSETTO:-0400
TZNAME:EDT
DTSTART:20230312T070000
END:DAYLIGHT
BEGIN:STANDARD
TZOFFSETFROM:-0400
TZOFFSETTO:-0500
TZNAME:EST
DTSTART:20231105T060000
END:STANDARD
BEGIN:DAYLIGHT
TZOFFSETFROM:-0500
TZOFFSETTO:-0400
TZNAME:EDT
DTSTART:20240310T070000
END:DAYLIGHT
BEGIN:STANDARD
TZOFFSETFROM:-0400
TZOFFSETTO:-0500
TZNAME:EST
DTSTART:20241103T060000
END:STANDARD
BEGIN:DAYLIGHT
TZOFFSETFROM:-0500
TZOFFSETTO:-0400
TZNAME:EDT
DTSTART:20250309T070000
END:DAYLIGHT
BEGIN:STANDARD
TZOFFSETFROM:-0400
TZOFFSETTO:-0500
TZNAME:EST
DTSTART:20251102T060000
END:STANDARD
END:VTIMEZONE
BEGIN:VEVENT
DTSTART;TZID=America/New_York:20240522T190000
DTEND;TZID=America/New_York:20240522T190000
DTSTAMP:20260425T121202
CREATED:20240430T160855Z
LAST-MODIFIED:20240430T160855Z
UID:19511-1716404400-1716404400@moonstoneartscenter.com
SUMMARY:Live Poetry - Christopher Childers and Ernest Hilbert
DESCRIPTION:Live Poetry at Fergie’s Pub \nChristopher Childers\, author of The Penguin Book of Greek and Latin Lyric Verse\, a book 14 years in the making. He received an NEA Translators’ Fellowship in 2018\, and has published in venues including The Kenyon Review\, the Yale Review\, Agni\, Literary Matters\, and Smartish Pace. His translations have been included in several anthologies\, including The Penguin Book of Elegy and The Poetry Pharmacy Forever. His poem “Miasma” is forthcoming from Best American Poetry 2023. Ernest Hilbert\, author of the Sixty Sonnets\, All of You on the Good Earth\, Caligulan—selected as winner of the 2017 Poets’ Prize\, Last One Out and Storm Swimmer\, was selected by Rowan Ricardo Phillips as the winner of the 2022 Vassar Miller Prize. He lives in Philadelphia where he works as a rare book dealer and book critic for The Washington Post\, The Wall Street Journal\, and Fine Books and Collections. His poem “Mars Ultor” was included in Best American Poetry \nAlina Macneal & Jennifer Hook Hosts\, Open Reading Follows \nZoom Link
URL:https://moonstoneartscenter.com/event/live-poetry-christopher-childers-and-ernest-hilbert/
LOCATION:Fergie’s Pub\, 1214 Sansom Street\, Philadelphia\, PA\, United States
CATEGORIES:Poetry Events
ATTACH;FMTTYPE=image/png:https://moonstoneartscenter.com/wp-content/uploads/2024/04/may-22.png
END:VEVENT
END:VCALENDAR