BEGIN:VCALENDAR
VERSION:2.0
PRODID:-//Moonstone Arts Center - ECPv6.15.20//NONSGML v1.0//EN
CALSCALE:GREGORIAN
METHOD:PUBLISH
X-ORIGINAL-URL:https://moonstoneartscenter.com
X-WR-CALDESC:Events for Moonstone Arts Center
REFRESH-INTERVAL;VALUE=DURATION:PT1H
X-Robots-Tag:noindex
X-PUBLISHED-TTL:PT1H
BEGIN:VTIMEZONE
TZID:America/New_York
BEGIN:DAYLIGHT
TZOFFSETFROM:-0500
TZOFFSETTO:-0400
TZNAME:EDT
DTSTART:20230312T070000
END:DAYLIGHT
BEGIN:STANDARD
TZOFFSETFROM:-0400
TZOFFSETTO:-0500
TZNAME:EST
DTSTART:20231105T060000
END:STANDARD
BEGIN:DAYLIGHT
TZOFFSETFROM:-0500
TZOFFSETTO:-0400
TZNAME:EDT
DTSTART:20240310T070000
END:DAYLIGHT
BEGIN:STANDARD
TZOFFSETFROM:-0400
TZOFFSETTO:-0500
TZNAME:EST
DTSTART:20241103T060000
END:STANDARD
BEGIN:DAYLIGHT
TZOFFSETFROM:-0500
TZOFFSETTO:-0400
TZNAME:EDT
DTSTART:20250309T070000
END:DAYLIGHT
BEGIN:STANDARD
TZOFFSETFROM:-0400
TZOFFSETTO:-0500
TZNAME:EST
DTSTART:20251102T060000
END:STANDARD
END:VTIMEZONE
BEGIN:VEVENT
DTSTART;TZID=America/New_York:20240714T140000
DTEND;TZID=America/New_York:20240714T150000
DTSTAMP:20260425T070706
CREATED:20240713T182227Z
LAST-MODIFIED:20240713T182227Z
UID:19652-1720965600-1720969200@moonstoneartscenter.com
SUMMARY:Virtual Poetry: Freedom Anthology
DESCRIPTION:Freedom 2024 Anthology Reading\nSunday July 14\, 2024\n2pm on Zoom\nZoom Meeting ID 829 9128 3645 – Passcode 060433 \nRegistration Link – https://us02web.zoom.us/meeting/register/tZYkfuiqpjgsHtFxxxyjfTkHXjIJkgSPg2tA  \n             \nFreedom \nThe United States celebrates Independence on July 4 \nFrance celebrates Bastille Day on July 14 \nThe struggle for freedom and independence is universal. \nWhat does Freedom mean to you? \nIt is used as a rallying call across the political spectrum \nOur Poets Responded \n  \nNot All Poets Will Be Reading  \n\n\n\nMary Anne Abdo \nM. Tonita Austin \nSarwa Azeez \nSusan Baer \nJeff Bien \nA.C. Blake \nCharles Briggs \nChristopher Butters \nFrancisco Carrasco \nAJ Chilson \nShaheen Dil \nElinor Donahue \nAnna Dunlap \n \nSahar Fathi \nFrancis Flavin \nAna Fores Tamayo \nDeborah Fries \nWilliam Galasso \nLinda Goss \nPamela Haines \nAnnie Hartford \nKathleen Herrmann \nKayla Howe \nJones Irwin \nRalph La Rosa \nKelly Lynn\nDara Marsh \nJohn Mason \nMatt McGarvey \nAurora McKee \nMharlyn Merriitt \nLeslie Perry \nClaire Petersen \nNader Rahimi \nJanet Restino \nLinda Romanowski \nRobert Eugene Rubino \nCarla Schick \nEvan Schneider \n \nJennifer Schneider \nAmeerah Shabazz \nWoody Shiflett \nMiki Simic \nRobert Lavett Smith \nKaramo Muchuri Sulieman \nLaura Sweeney \nEike Waltz \nGail Wasserman \nKelley White \nDaniel Williams \nSamantha Wright \nDaniel Zehner
URL:https://moonstoneartscenter.com/event/virtual-poetry-freedom-anthology/
LOCATION:Virtual
CATEGORIES:Poetry Events
ATTACH;FMTTYPE=image/png:https://moonstoneartscenter.com/wp-content/uploads/2020/08/Freedom-1.png
END:VEVENT
END:VCALENDAR