BEGIN:VCALENDAR
VERSION:2.0
PRODID:-//Moonstone Arts Center - ECPv6.15.20//NONSGML v1.0//EN
CALSCALE:GREGORIAN
METHOD:PUBLISH
X-WR-CALNAME:Moonstone Arts Center
X-ORIGINAL-URL:https://moonstoneartscenter.com
X-WR-CALDESC:Events for Moonstone Arts Center
REFRESH-INTERVAL;VALUE=DURATION:PT1H
X-Robots-Tag:noindex
X-PUBLISHED-TTL:PT1H
BEGIN:VTIMEZONE
TZID:America/New_York
BEGIN:DAYLIGHT
TZOFFSETFROM:-0500
TZOFFSETTO:-0400
TZNAME:EDT
DTSTART:20250309T070000
END:DAYLIGHT
BEGIN:STANDARD
TZOFFSETFROM:-0400
TZOFFSETTO:-0500
TZNAME:EST
DTSTART:20251102T060000
END:STANDARD
BEGIN:DAYLIGHT
TZOFFSETFROM:-0500
TZOFFSETTO:-0400
TZNAME:EDT
DTSTART:20260308T070000
END:DAYLIGHT
BEGIN:STANDARD
TZOFFSETFROM:-0400
TZOFFSETTO:-0500
TZNAME:EST
DTSTART:20261101T060000
END:STANDARD
BEGIN:DAYLIGHT
TZOFFSETFROM:-0500
TZOFFSETTO:-0400
TZNAME:EDT
DTSTART:20270314T070000
END:DAYLIGHT
BEGIN:STANDARD
TZOFFSETFROM:-0400
TZOFFSETTO:-0500
TZNAME:EST
DTSTART:20271107T060000
END:STANDARD
END:VTIMEZONE
BEGIN:VEVENT
DTSTART;TZID=America/New_York:20260415T190000
DTEND;TZID=America/New_York:20260415T210000
DTSTAMP:20260423T165720
CREATED:20260328T163036Z
LAST-MODIFIED:20260328T163036Z
UID:21113-1776279600-1776286800@moonstoneartscenter.com
SUMMARY:Wednesday April 15\, 2026 - LIVE
DESCRIPTION:Wedsnesday April 15\, 2026 – Live at Fergie’s Pub @ 7pm\nFeaturing: C.M. Crockford\, Chris DeMento\, John Fadely\, Alison Lubar\, and Sean Hanrahan as Host \nC.M. Crockford poems\, essays\, and stories have been featured in Vastarien\, Nobody Magazine\, Be About It Press\, and The Cleveland Review of Books among many others. \nChris DeMento hosts Poetry Night in collaboration with the cafe Char & Stave\, featuring some of the most impressive voices from the PHL region and beyond. \nJohn Fadely won the 2025 Trail to Table Book Award in Poetry for his debut collection\, Before Leaving the Island\, which will be published on April 21. \nAlison Lubar is a Nikkei poet and educator who teaches literature to teenagers\, writing to adults\, and yoga to all ages. Alison writes about biracial identity\, queer love\, transgenerational healing\, and common moths; they are also a board member for Philadelphia’s Blue Stoop. \nSean Hanrahan Host – Open Reading Follows
URL:https://moonstoneartscenter.com/event/wednesday-april-15-2026-live/
LOCATION:Fergie’s Pub\, 1214 Sansom Street\, Philadelphia\, PA\, United States
CATEGORIES:Events,Poetry Events
ATTACH;FMTTYPE=image/png:https://moonstoneartscenter.com/wp-content/uploads/2026/03/Live-at-Fergies-April-15-@-7pm.png
END:VEVENT
END:VCALENDAR