BEGIN:VCALENDAR
VERSION:2.0
PRODID:-//Moonstone Arts Center - ECPv6.15.20//NONSGML v1.0//EN
CALSCALE:GREGORIAN
METHOD:PUBLISH
X-ORIGINAL-URL:https://moonstoneartscenter.com
X-WR-CALDESC:Events for Moonstone Arts Center
REFRESH-INTERVAL;VALUE=DURATION:PT1H
X-Robots-Tag:noindex
X-PUBLISHED-TTL:PT1H
BEGIN:VTIMEZONE
TZID:America/New_York
BEGIN:DAYLIGHT
TZOFFSETFROM:-0500
TZOFFSETTO:-0400
TZNAME:EDT
DTSTART:20240310T070000
END:DAYLIGHT
BEGIN:STANDARD
TZOFFSETFROM:-0400
TZOFFSETTO:-0500
TZNAME:EST
DTSTART:20241103T060000
END:STANDARD
BEGIN:DAYLIGHT
TZOFFSETFROM:-0500
TZOFFSETTO:-0400
TZNAME:EDT
DTSTART:20250309T070000
END:DAYLIGHT
BEGIN:STANDARD
TZOFFSETFROM:-0400
TZOFFSETTO:-0500
TZNAME:EST
DTSTART:20251102T060000
END:STANDARD
BEGIN:DAYLIGHT
TZOFFSETFROM:-0500
TZOFFSETTO:-0400
TZNAME:EDT
DTSTART:20260308T070000
END:DAYLIGHT
BEGIN:STANDARD
TZOFFSETFROM:-0400
TZOFFSETTO:-0500
TZNAME:EST
DTSTART:20261101T060000
END:STANDARD
END:VTIMEZONE
BEGIN:VEVENT
DTSTART;TZID=America/New_York:20250318T170000
DTEND;TZID=America/New_York:20250318T190000
DTSTAMP:20260425T124547
CREATED:20250225T225843Z
LAST-MODIFIED:20250225T225843Z
UID:20154-1742317200-1742324400@moonstoneartscenter.com
SUMMARY:Live Poetry: Happy Saint Patrick's Day!
DESCRIPTION:Tuesday March 18\, 2025 – 5:00pm  \nLive at Fergie’s Pub\,1214 Sansom Street and on zoom –  Use this link: \nhttps://us06web.zoom.us/meeting/register/Q3BIKrZhRjOSQ_BFscJ85A \nNathalie Anderson\, author of Rough\, Following Fred Astaire\, Crawlers\, Quiver\, Stain\, and the chapbook Held and Firmly Bound.  She collaborated with Susan Hagen and Lisa Sewell on Birds of North America.  Anderson’s poems have appeared in such journals as Atlanta Review\, DoubleTake\, Natural Bridge\, The New Yorker\, Nimrod\, and Plume and authored libretti for five operas.  She has recently retired from Swarthmore College\, where she taught as Alexander Griswold Cummins Professor of English Literature\, and served as Director of the Program in Creative Writing. \nJoseph Lennon is Emily C. Riley Director of the Center for Irish Studies at Villanova University\, where he also is Associate Dean\, Professor of English\, and Co-Director of Villanova’s Strategic Initiative for Climate\, Justice and Sustainability.  His forthcoming book\, Marion Wallace-Dunlop and the Origins of the Hunger Strike will be published in 2026.  He writes poetry\, essays\, and scholarship on Irish and transnational literature and culture\, focusing on histories of the hunger strike in the United Kingdom\, Ireland\, Russia\, and India.  He has published poetry in New Hibernia Review\, Poetry Ireland\, Natural Bridge\, Denver Quarterly\, and Salmon Poetry published his Fell Hunger in 2011; he is editing a forthcoming issue of the American Journal of Irish Studies on “Sustainability in Irish Culture.” \nStephen Sexton’s first book\, If All the World and Love Were Young was the winner of the Forward Prize for Best First Collection in 2019 and the Shine / Strong Award for Best First Collection. He was awarded the E. M. Forster Award from the American Academy of Arts and Letters and the Rooney Prize for Irish Literature in 2020. He was the winner of the National Poetry Competition in 2016 and the recipient of an Eric Gregory Award in 2018. Cheryl’s Destinies was published in 2021\, and was shortlisted for the Forward Prize for Best Collection. Wake Forest University Press reissued both collections in North America in 2024. \nOpen Reading Follows
URL:https://moonstoneartscenter.com/event/live-poetry-happy-saint-patricks-day/
LOCATION:Fergie’s Pub\, 1214 Sansom Street\, Philadelphia\, PA\, United States
CATEGORIES:Poetry Events
ATTACH;FMTTYPE=image/jpeg:https://moonstoneartscenter.com/wp-content/uploads/2025/02/Fergies-Pub-318_Square.jpg
END:VEVENT
END:VCALENDAR