BEGIN:VCALENDAR
VERSION:2.0
PRODID:-//Moonstone Arts Center - ECPv6.15.20//NONSGML v1.0//EN
CALSCALE:GREGORIAN
METHOD:PUBLISH
X-WR-CALNAME:Moonstone Arts Center
X-ORIGINAL-URL:https://moonstoneartscenter.com
X-WR-CALDESC:Events for Moonstone Arts Center
REFRESH-INTERVAL;VALUE=DURATION:PT1H
X-Robots-Tag:noindex
X-PUBLISHED-TTL:PT1H
BEGIN:VTIMEZONE
TZID:America/New_York
BEGIN:DAYLIGHT
TZOFFSETFROM:-0500
TZOFFSETTO:-0400
TZNAME:EDT
DTSTART:20250309T070000
END:DAYLIGHT
BEGIN:STANDARD
TZOFFSETFROM:-0400
TZOFFSETTO:-0500
TZNAME:EST
DTSTART:20251102T060000
END:STANDARD
BEGIN:DAYLIGHT
TZOFFSETFROM:-0500
TZOFFSETTO:-0400
TZNAME:EDT
DTSTART:20260308T070000
END:DAYLIGHT
BEGIN:STANDARD
TZOFFSETFROM:-0400
TZOFFSETTO:-0500
TZNAME:EST
DTSTART:20261101T060000
END:STANDARD
BEGIN:DAYLIGHT
TZOFFSETFROM:-0500
TZOFFSETTO:-0400
TZNAME:EDT
DTSTART:20270314T070000
END:DAYLIGHT
BEGIN:STANDARD
TZOFFSETFROM:-0400
TZOFFSETTO:-0500
TZNAME:EST
DTSTART:20271107T060000
END:STANDARD
END:VTIMEZONE
BEGIN:VEVENT
DTSTART;TZID=America/New_York:20260315T140000
DTEND;TZID=America/New_York:20260315T160000
DTSTAMP:20260423T153437
CREATED:20260221T180439Z
LAST-MODIFIED:20260221T180439Z
UID:21042-1773583200-1773590400@moonstoneartscenter.com
SUMMARY:Sunday March 15\, 2026 - Latinx Voices in Poetry: Poetry Without Borders - VIRTUAL
DESCRIPTION:Sunday March 15\, 2026 – Latinx Voices in Poetry: Poetry Without Borders\nRegister Here: Latinx Voices in Poetry: Virtual Poetry Reading\nThis anthology will include three sections: Remembering Marjorie Agosin\, Remembering Ernesto Cardenzal\, and Latinx Voices in Poetry: Poetry Without Borders – Poetry by Latin American Poets both in the US and Latin America
URL:https://moonstoneartscenter.com/event/sunday-march-15-2026-latinx-voices-in-poetry-poetry-without-borders-virtual/
LOCATION:PA
CATEGORIES:Events,Poetry Events
ATTACH;FMTTYPE=image/png:https://moonstoneartscenter.com/wp-content/uploads/2026/02/Latinx-Voices-in-Poetry-Poetry-Without-Borders.png
END:VEVENT
BEGIN:VEVENT
DTSTART;TZID=America/New_York:20260322T140000
DTEND;TZID=America/New_York:20260322T160000
DTSTAMP:20260423T153437
CREATED:20260305T174656Z
LAST-MODIFIED:20260307T192200Z
UID:21055-1774188000-1774195200@moonstoneartscenter.com
SUMMARY:Sunday March 22\, 2026 - World Poetry Day - Virtual
DESCRIPTION:Sunday March 22\, 2026 World Poetry Day – Virtual\nRegister Here: World Poetry Day – Virtual\nWorld Poetry Day is celebrated on March 21st\, and was declared by UNESCO (The United Nations Educational\, Scientific\, and Cultural Organization) in 1999\, ”with the aim of supporting linguistic diversity through poetic expression and increasing the opportunity for endangered languages to be heard”. Its purpose is to promote the reading\, writing\, publishing\, and teaching of poetry throughout the world\, and as the original UNESCO declaration says\, ”to give fresh recognition and impetus to national\, regional\, and international poetry movements”.
URL:https://moonstoneartscenter.com/event/world-poetry-day-virtual-event/
LOCATION:PA
CATEGORIES:Events,Poetry Events
ATTACH;FMTTYPE=image/png:https://moonstoneartscenter.com/wp-content/uploads/2026/03/March-22-World-Poetry-Virtual.png
END:VEVENT
END:VCALENDAR