BEGIN:VCALENDAR
VERSION:2.0
PRODID:-//Moonstone Arts Center - ECPv6.15.20//NONSGML v1.0//EN
CALSCALE:GREGORIAN
METHOD:PUBLISH
X-ORIGINAL-URL:https://moonstoneartscenter.com
X-WR-CALDESC:Events for Moonstone Arts Center
REFRESH-INTERVAL;VALUE=DURATION:PT1H
X-Robots-Tag:noindex
X-PUBLISHED-TTL:PT1H
BEGIN:VTIMEZONE
TZID:America/New_York
BEGIN:DAYLIGHT
TZOFFSETFROM:-0500
TZOFFSETTO:-0400
TZNAME:EDT
DTSTART:20240310T070000
END:DAYLIGHT
BEGIN:STANDARD
TZOFFSETFROM:-0400
TZOFFSETTO:-0500
TZNAME:EST
DTSTART:20241103T060000
END:STANDARD
BEGIN:DAYLIGHT
TZOFFSETFROM:-0500
TZOFFSETTO:-0400
TZNAME:EDT
DTSTART:20250309T070000
END:DAYLIGHT
BEGIN:STANDARD
TZOFFSETFROM:-0400
TZOFFSETTO:-0500
TZNAME:EST
DTSTART:20251102T060000
END:STANDARD
BEGIN:DAYLIGHT
TZOFFSETFROM:-0500
TZOFFSETTO:-0400
TZNAME:EDT
DTSTART:20260308T070000
END:DAYLIGHT
BEGIN:STANDARD
TZOFFSETFROM:-0400
TZOFFSETTO:-0500
TZNAME:EST
DTSTART:20261101T060000
END:STANDARD
END:VTIMEZONE
BEGIN:VEVENT
DTSTART;TZID=America/New_York:20250331T190000
DTEND;TZID=America/New_York:20250331T210000
DTSTAMP:20260425T074303
CREATED:20250226T153425Z
LAST-MODIFIED:20250226T153425Z
UID:20172-1743447600-1743454800@moonstoneartscenter.com
SUMMARY:Anthology Reading: Chaos\, Crises\, Conflict
DESCRIPTION:Monday March 31\, 2025 – 7pmEST – Chaos\, Crises\, Conflict Anthology Reading – VIRTUAL \nhttps://us06web.zoom.us/meeting/register/o5aORNAuQH6qAzaYCOI-Yg \nIn a time fraught with political strife and armed conflict\, how can we reframe\, heal\, and continue to live in the midst of destruction\, chaos\, and loss?  We seem to have forgotten that we are all human beings. Where is our empathy? How do we reconcile? How do we survive? Poets Respond
URL:https://moonstoneartscenter.com/event/anthology-reading-chaos-crises-conflict/
LOCATION:virtual
CATEGORIES:Poetry Events
ATTACH;FMTTYPE=image/jpeg:https://moonstoneartscenter.com/wp-content/uploads/2025/02/Chaos-Crises-Conflict_Square.jpg
END:VEVENT
END:VCALENDAR