BEGIN:VCALENDAR
VERSION:2.0
PRODID:-//Moonstone Arts Center - ECPv6.15.20//NONSGML v1.0//EN
CALSCALE:GREGORIAN
METHOD:PUBLISH
X-ORIGINAL-URL:https://moonstoneartscenter.com
X-WR-CALDESC:Events for Moonstone Arts Center
REFRESH-INTERVAL;VALUE=DURATION:PT1H
X-Robots-Tag:noindex
X-PUBLISHED-TTL:PT1H
BEGIN:VTIMEZONE
TZID:America/New_York
BEGIN:DAYLIGHT
TZOFFSETFROM:-0500
TZOFFSETTO:-0400
TZNAME:EDT
DTSTART:20250309T070000
END:DAYLIGHT
BEGIN:STANDARD
TZOFFSETFROM:-0400
TZOFFSETTO:-0500
TZNAME:EST
DTSTART:20251102T060000
END:STANDARD
BEGIN:DAYLIGHT
TZOFFSETFROM:-0500
TZOFFSETTO:-0400
TZNAME:EDT
DTSTART:20260308T070000
END:DAYLIGHT
BEGIN:STANDARD
TZOFFSETFROM:-0400
TZOFFSETTO:-0500
TZNAME:EST
DTSTART:20261101T060000
END:STANDARD
BEGIN:DAYLIGHT
TZOFFSETFROM:-0500
TZOFFSETTO:-0400
TZNAME:EDT
DTSTART:20270314T070000
END:DAYLIGHT
BEGIN:STANDARD
TZOFFSETFROM:-0400
TZOFFSETTO:-0500
TZNAME:EST
DTSTART:20271107T060000
END:STANDARD
END:VTIMEZONE
BEGIN:VEVENT
DTSTART;TZID=America/New_York:20260411T080000
DTEND;TZID=America/New_York:20260411T170000
DTSTAMP:20260423T153611
CREATED:20260411T175338Z
LAST-MODIFIED:20260411T175338Z
UID:21135-1775894400-1775926800@moonstoneartscenter.com
SUMMARY:Sunday April 26\, 2026
DESCRIPTION:Sunday April 26\, 2026 – VIRTUAL at 2pm\nMoonstone Chapbook Contest 2025 – Reading Featuring: \nThe Winning Manuscript: All at Once by Lucia Owen \nHigh Honorable Mention: Tarifa Moon by Bill O’Connell \nHonorable Mention: Bright Clatter by Susan Coppock \nHonorable Mention: Shadow House by Ada Lowenthal \n  \nPLUS These Exceptional Poets \nAliyah Cotton\, author of The Lungs Remember Breath  \nAnne Greenhaigh\, author of Half sun\, half shade: a sequence of sestinas  \nVincent Hostak\, author of The Strangest Fire \nStacie Kiner\, author of Abby Road  \nBrandy Reinke\, author of Remnants of the Injury of Finding the Known  \nMeri Tumanyan\, author of Why I Pray in Armenian  \nRegister Here!
URL:https://moonstoneartscenter.com/event/sunday-april-26-2026/
LOCATION:PA
CATEGORIES:Events,Poetry Events
ATTACH;FMTTYPE=image/png:https://moonstoneartscenter.com/wp-content/uploads/2026/04/April-26-2026.png
END:VEVENT
END:VCALENDAR