BEGIN:VCALENDAR
VERSION:2.0
PRODID:-//Moonstone Arts Center - ECPv6.15.20//NONSGML v1.0//EN
CALSCALE:GREGORIAN
METHOD:PUBLISH
X-ORIGINAL-URL:https://moonstoneartscenter.com
X-WR-CALDESC:Events for Moonstone Arts Center
REFRESH-INTERVAL;VALUE=DURATION:PT1H
X-Robots-Tag:noindex
X-PUBLISHED-TTL:PT1H
BEGIN:VTIMEZONE
TZID:America/New_York
BEGIN:DAYLIGHT
TZOFFSETFROM:-0500
TZOFFSETTO:-0400
TZNAME:EDT
DTSTART:20230312T070000
END:DAYLIGHT
BEGIN:STANDARD
TZOFFSETFROM:-0400
TZOFFSETTO:-0500
TZNAME:EST
DTSTART:20231105T060000
END:STANDARD
BEGIN:DAYLIGHT
TZOFFSETFROM:-0500
TZOFFSETTO:-0400
TZNAME:EDT
DTSTART:20240310T070000
END:DAYLIGHT
BEGIN:STANDARD
TZOFFSETFROM:-0400
TZOFFSETTO:-0500
TZNAME:EST
DTSTART:20241103T060000
END:STANDARD
BEGIN:DAYLIGHT
TZOFFSETFROM:-0500
TZOFFSETTO:-0400
TZNAME:EDT
DTSTART:20250309T070000
END:DAYLIGHT
BEGIN:STANDARD
TZOFFSETFROM:-0400
TZOFFSETTO:-0500
TZNAME:EST
DTSTART:20251102T060000
END:STANDARD
END:VTIMEZONE
BEGIN:VEVENT
DTSTART;TZID=America/New_York:20240915T140000
DTEND;TZID=America/New_York:20240915T160000
DTSTAMP:20260425T174134
CREATED:20240907T160242Z
LAST-MODIFIED:20240907T161009Z
UID:19785-1726408800-1726416000@moonstoneartscenter.com
SUMMARY:Tribute to Sonia Sanchez
DESCRIPTION:Tribute to Sonia Sanchez \nSunday September 15th\, 2024 – 2pm  VIRTUAL \nRegistration Link https://us05web.zoom.us/j/83627572456?pwd=JE0PCSxPn26WT6hBZ8aSmXHm0PqDxo.1  \nHappy 90th Birthday\, Sonia \nSonia Sanchez—poet\, activist\, scholar—was the Laura Carnell Professor of English and Women’s Studies at Temple University. She is the recipient of both the Robert Frost Medal for distinguished lifetime service to American poetry and the Langston Hughes Poetry Award. One of the most important writers of the Black Arts Movement\, Sanchez is the author of sixteen books. \nJoin us for a virtual reading to celebrate Sonia’s birthday and lifetime of contributions to poetry and the literary community\, both in Philadelphia and world-wide. Contributors from our Tribute to Sonia Sanchez anthology will be reading their pieces and others inspired by her work. \n“Let me wear the day \nWell so when it reaches you \nYou will enjoy it.” \n– Sonia Sanchez
URL:https://moonstoneartscenter.com/event/tribute-to-sonia-sanchez/
LOCATION:Virtual
CATEGORIES:Events,Poetry Events
ATTACH;FMTTYPE=image/png:https://moonstoneartscenter.com/wp-content/uploads/2024/09/Tribute-to-Sonia-Sanchez.png
END:VEVENT
BEGIN:VEVENT
DTSTART;TZID=America/New_York:20240930T190000
DTEND;TZID=America/New_York:20240930T210000
DTSTAMP:20260425T174134
CREATED:20240928T151657Z
LAST-MODIFIED:20240928T152428Z
UID:19831-1727722800-1727730000@moonstoneartscenter.com
SUMMARY:28th Poetry Ink: VIRTUAL
DESCRIPTION:Moonstone Poetry presents \n28th Annual Poetry Ink Reading VIRTUAL\nMonday\, September 30th\, 2024\, 7pm \nOnline via Zoom\, register here: https://us05web.zoom.us/j/88202311343?pwd=02AJS9GK5vIYcvL5dLXwwa7mJARNDc.1  \nWe want you all: published poets\, unpublished poets\, academic poets\, street poets\, poets who write Sonnet\, Villanelle\, Haiku\, Ekphrastic Poems\, Concrete Poems\, Epitaph\, Elegy\, Epigram\, Limerick\, Ballad\,  Ode\, Free Verse\, and all other forms. Join us for our 28th year of presenting 100 poets reading in alphabetical order.  \nBuy your copy of the anthology here: https://moonstone-arts-center.square.site/product/28th-annual-poetry-ink/491
URL:https://moonstoneartscenter.com/event/28th-poetry-ink-virtual/
LOCATION:virtual
CATEGORIES:Events,Poetry Events
ATTACH;FMTTYPE=image/png:https://moonstoneartscenter.com/wp-content/uploads/2024/09/28th-Poetry-Ink_Virtual_Square.png
END:VEVENT
END:VCALENDAR