BEGIN:VCALENDAR
VERSION:2.0
PRODID:-//Moonstone Arts Center - ECPv6.15.20//NONSGML v1.0//EN
CALSCALE:GREGORIAN
METHOD:PUBLISH
X-WR-CALNAME:Moonstone Arts Center
X-ORIGINAL-URL:https://moonstoneartscenter.com
X-WR-CALDESC:Events for Moonstone Arts Center
REFRESH-INTERVAL;VALUE=DURATION:PT1H
X-Robots-Tag:noindex
X-PUBLISHED-TTL:PT1H
BEGIN:VTIMEZONE
TZID:America/New_York
BEGIN:DAYLIGHT
TZOFFSETFROM:-0500
TZOFFSETTO:-0400
TZNAME:EDT
DTSTART:20240310T070000
END:DAYLIGHT
BEGIN:STANDARD
TZOFFSETFROM:-0400
TZOFFSETTO:-0500
TZNAME:EST
DTSTART:20241103T060000
END:STANDARD
BEGIN:DAYLIGHT
TZOFFSETFROM:-0500
TZOFFSETTO:-0400
TZNAME:EDT
DTSTART:20250309T070000
END:DAYLIGHT
BEGIN:STANDARD
TZOFFSETFROM:-0400
TZOFFSETTO:-0500
TZNAME:EST
DTSTART:20251102T060000
END:STANDARD
BEGIN:DAYLIGHT
TZOFFSETFROM:-0500
TZOFFSETTO:-0400
TZNAME:EDT
DTSTART:20260308T070000
END:DAYLIGHT
BEGIN:STANDARD
TZOFFSETFROM:-0400
TZOFFSETTO:-0500
TZNAME:EST
DTSTART:20261101T060000
END:STANDARD
END:VTIMEZONE
BEGIN:VEVENT
DTSTART;TZID=America/New_York:20250204T183000
DTEND;TZID=America/New_York:20250204T203000
DTSTAMP:20260425T071042
CREATED:20250121T165226Z
LAST-MODIFIED:20250128T160857Z
UID:20053-1738693800-1738701000@moonstoneartscenter.com
SUMMARY:Live Broadcast: Alison Hicks
DESCRIPTION:Tuesday February 4th at 6:30pm \nMoonstone Poetry @PhillyCAM \nCan be viewed for free on the Phillycam website or Cable 66/966HD/967 or Verizon FIOS\, 29/30 in Philadelphia. \nAlison Hicks was awarded the 2021 Birdy Prize from Meadowlark Press for Knowing Is a Branching Trail. Previous collections are You Who Took the Boat Out and Kiss\, a chapbook Falling Dreams\, and a novella Love: A Story of Images. Her work has appeared in Eclipse\, Gargoyle\, Permafrost\, and Poet Lore. She was finalist for the 2021 Beullah Rose prize from Smartish Pace\, an Editor’s Choice selection for the 2024 Philadelphia Stories National Poetry Prize\, and nominated for a Pushcart Prize by Green Hills Literary Lantern\, Quartet Journal\, and Nude Bruce Review. She is founder of Greater Philadelphia Wordshop Studio\, which offers community-based writing workshops.\n\nCharles S. Carr hosts
URL:https://moonstoneartscenter.com/event/live-broadcast-alison-hicks/
LOCATION:PA
CATEGORIES:Poetry Events
ATTACH;FMTTYPE=image/jpeg:https://moonstoneartscenter.com/wp-content/uploads/2025/01/Alison-Hicks_Square.jpg
END:VEVENT
END:VCALENDAR