BEGIN:VCALENDAR
VERSION:2.0
PRODID:-//Moonstone Arts Center - ECPv6.15.20//NONSGML v1.0//EN
CALSCALE:GREGORIAN
METHOD:PUBLISH
X-WR-CALNAME:Moonstone Arts Center
X-ORIGINAL-URL:https://moonstoneartscenter.com
X-WR-CALDESC:Events for Moonstone Arts Center
REFRESH-INTERVAL;VALUE=DURATION:PT1H
X-Robots-Tag:noindex
X-PUBLISHED-TTL:PT1H
BEGIN:VTIMEZONE
TZID:America/New_York
BEGIN:DAYLIGHT
TZOFFSETFROM:-0500
TZOFFSETTO:-0400
TZNAME:EDT
DTSTART:20230312T070000
END:DAYLIGHT
BEGIN:STANDARD
TZOFFSETFROM:-0400
TZOFFSETTO:-0500
TZNAME:EST
DTSTART:20231105T060000
END:STANDARD
BEGIN:DAYLIGHT
TZOFFSETFROM:-0500
TZOFFSETTO:-0400
TZNAME:EDT
DTSTART:20240310T070000
END:DAYLIGHT
BEGIN:STANDARD
TZOFFSETFROM:-0400
TZOFFSETTO:-0500
TZNAME:EST
DTSTART:20241103T060000
END:STANDARD
BEGIN:DAYLIGHT
TZOFFSETFROM:-0500
TZOFFSETTO:-0400
TZNAME:EDT
DTSTART:20250309T070000
END:DAYLIGHT
BEGIN:STANDARD
TZOFFSETFROM:-0400
TZOFFSETTO:-0500
TZNAME:EST
DTSTART:20251102T060000
END:STANDARD
END:VTIMEZONE
BEGIN:VEVENT
DTSTART;TZID=America/New_York:20241030T190000
DTEND;TZID=America/New_York:20241030T210000
DTSTAMP:20260425T101149
CREATED:20241006T170121Z
LAST-MODIFIED:20241006T170121Z
UID:19857-1730314800-1730322000@moonstoneartscenter.com
SUMMARY:Live Poetry: William Hazard & Ari Villeda-Martinez
DESCRIPTION:Moonstone Poetry \nWednesday October 30\, 2024 – 7pm  \nLive at Fergie’s Pub\,1214 Sansom Street and on zoom \nUse this link: https://us06web.zoom.us/meeting/register/tZYlceyhrj4uGdcKVBmb7dFEdUot8n6Ea8AL \n William Hazard makes poems with computers. Recent work can be found in Voicemail Poems\, Bring a Blanket Zine\, Ghost Proposal\, Beloved Radio\, Audio Flare Gun\, and on GitHub. He teaches at Temple University. He hangs out at llllllll.co \n  \nA Latinx poet\, educator\, and general transgender menace\, Ari Villeda-Martinez (she/they) is a performer and artist who thrives in the seemingly liminal space between the seat and the stage. She is a maker most interested in how an audience creates their own tether to a spoken narrative and can breach the wall to the page.  Her work is intimate\, precise\, and at its best\, devours. \n  \n  \nAaron Gadbury & Lindsay Hargarve Hosts – Open Reading Follows
URL:https://moonstoneartscenter.com/event/live-poetry-william-hazard-ari-villeda-martinez/
LOCATION:Fergie’s Pub\, 1214 Sansom Street\, Philadelphia\, PA\, United States
CATEGORIES:Events,Poetry Events
ATTACH;FMTTYPE=image/png:https://moonstoneartscenter.com/wp-content/uploads/2024/10/October-30_2024.png
END:VEVENT
END:VCALENDAR